BEGIN:VCALENDAR
VERSION:2.0
PRODID:icalendar-ruby
CALSCALE:GREGORIAN
METHOD:PUBLISH
BEGIN:VTIMEZONE
TZID:Europe/Moscow
BEGIN:STANDARD
DTSTART:19700101T000000
TZOFFSETFROM:+0300
TZOFFSETTO:+0300
TZNAME:MSK
END:STANDARD
END:VTIMEZONE
BEGIN:VEVENT
DTSTAMP:20260420T012141Z
UID:285559ae-5fc5-4612-8b75-8923f4efdacd
DTSTART;TZID=Europe/Moscow:20260304T184500
DTEND;TZID=Europe/Moscow:20260304T220000
DESCRIPTION:Mahorin I.V. M25-555
SUMMARY:Principles of Python development
RRULE:FREQ=WEEKLY;UNTIL=20260318T220000;WKST=MO
END:VEVENT
END:VCALENDAR
