BEGIN:VCALENDAR
VERSION:2.0
PRODID:icalendar-ruby
CALSCALE:GREGORIAN
METHOD:PUBLISH
BEGIN:VTIMEZONE
TZID:Europe/Moscow
BEGIN:STANDARD
DTSTART:19700101T000000
TZOFFSETFROM:+0300
TZOFFSETTO:+0300
TZNAME:MSK
END:STANDARD
END:VTIMEZONE
BEGIN:VEVENT
DTSTAMP:20260419T221151Z
UID:973719f1-9545-499f-b165-0f264c82f994
DTSTART;TZID=Europe/Moscow:20260214T083000
DTEND;TZID=Europe/Moscow:20260214T100500
DESCRIPTION:Fomenko B.A. B22-604
LOCATION:A-220
SUMMARY:Safety Systems of Nuclear Power Plants
RRULE:FREQ=WEEKLY;UNTIL=20260411T100500;INTERVAL=2;WKST=MO
END:VEVENT
BEGIN:VEVENT
DTSTAMP:20260419T221151Z
UID:279c0d41-0869-48e3-9eb1-1b10a01d6e83
DTSTART;TZID=Europe/Moscow:20260207T101500
DTEND;TZID=Europe/Moscow:20260207T124000
DESCRIPTION:Fomenko B.A. B22-604
LOCATION:A-220
SUMMARY:Safety Systems of Nuclear Power Plants
RRULE:FREQ=WEEKLY;UNTIL=20260418T124000;WKST=MO
END:VEVENT
BEGIN:VEVENT
DTSTAMP:20260419T221151Z
UID:2a8316c2-211e-4192-b085-e149276f5178
DTSTART;TZID=Europe/Moscow:20260209T170500
DTEND;TZID=Europe/Moscow:20260209T175000
DESCRIPTION:Fomenko B.A. B22-601
LOCATION:A-220
SUMMARY:Subgroup 2
RRULE:FREQ=WEEKLY;UNTIL=20260420T175000;WKST=MO
EXDATE:20260223T170500
EXDATE:20260309T170500
END:VEVENT
BEGIN:VEVENT
DTSTAMP:20260419T221151Z
UID:a3fbc369-4550-4eb3-a8ba-093462e476b2
DTSTART;TZID=Europe/Moscow:20260209T175500
DTEND;TZID=Europe/Moscow:20260209T202000
DESCRIPTION:Fomenko B.A. B22-601
LOCATION:A-220
SUMMARY:Subgroup 2
RRULE:FREQ=WEEKLY;UNTIL=20260420T202000;WKST=MO
EXDATE:20260223T175500
EXDATE:20260309T175500
END:VEVENT
BEGIN:VEVENT
DTSTAMP:20260419T221151Z
UID:cc1297d7-92f7-4f81-ad5d-74f1e51e0099
DTSTART;TZID=Europe/Moscow:20260213T193500
DTEND;TZID=Europe/Moscow:20260213T220000
DESCRIPTION:Fomenko B.A. M25-605
LOCATION:A-106
SUMMARY:Reliability of Complex Technical Systems. Subgroup 2
RRULE:FREQ=WEEKLY;UNTIL=20260327T220000;WKST=MO
END:VEVENT
END:VCALENDAR
