BEGIN:VCALENDAR
VERSION:2.0
PRODID:icalendar-ruby
CALSCALE:GREGORIAN
METHOD:PUBLISH
BEGIN:VTIMEZONE
TZID:Europe/Moscow
BEGIN:STANDARD
DTSTART:19700101T000000
TZOFFSETFROM:+0300
TZOFFSETTO:+0300
TZNAME:MSK
END:STANDARD
END:VTIMEZONE
BEGIN:VEVENT
DTSTAMP:20260420T071600Z
UID:6aec9713-19b1-46af-912a-15e97b49e223
DTSTART;TZID=Europe/Moscow:20260211T143000
DTEND;TZID=Europe/Moscow:20260211T160500
DESCRIPTION:Masalov A.V. M25-203\, M25-207\, M25-209\, M25-218
LOCATION:K-415
SUMMARY:Nonlinear and Quantum Optics\; Quantum Optics
RRULE:FREQ=WEEKLY;UNTIL=20260304T160500;WKST=MO
END:VEVENT
BEGIN:VEVENT
DTSTAMP:20260420T071600Z
UID:9bd02e42-a5bd-4813-bf3a-7b9bd5b25a1e
DTSTART;TZID=Europe/Moscow:20260311T143000
DTEND;TZID=Europe/Moscow:20260311T160500
DESCRIPTION:Masalov A.V. M25-203\, M25-207\, M25-209\, M25-218
LOCATION:K-415
SUMMARY:Nonlinear and Quantum Optics\; Quantum Optics
RRULE:FREQ=WEEKLY;UNTIL=20260401T160500;WKST=MO
END:VEVENT
BEGIN:VEVENT
DTSTAMP:20260420T071600Z
UID:e8b28853-a1a7-4e03-a642-2cedfed41b5d
DTSTART;TZID=Europe/Moscow:20260408T143000
DTEND;TZID=Europe/Moscow:20260408T160500
DESCRIPTION:Masalov A.V. M25-203\, M25-207\, M25-209\, M25-218
LOCATION:K-415
SUMMARY:Nonlinear and Quantum Optics\; Quantum Optics
RRULE:FREQ=WEEKLY;UNTIL=20260520T160500;WKST=MO
END:VEVENT
END:VCALENDAR
