BEGIN:VCALENDAR
VERSION:2.0
PRODID:icalendar-ruby
CALSCALE:GREGORIAN
METHOD:PUBLISH
BEGIN:VTIMEZONE
TZID:Europe/Moscow
BEGIN:STANDARD
DTSTART:19700101T000000
TZOFFSETFROM:+0300
TZOFFSETTO:+0300
TZNAME:MSK
END:STANDARD
END:VTIMEZONE
BEGIN:VEVENT
DTSTAMP:20260420T185008Z
UID:c967d57d-62d5-44f2-8a5c-511a8091bda5
DTSTART;TZID=Europe/Moscow:20250208T083000
DTEND;TZID=Europe/Moscow:20250208T100500
DESCRIPTION:Fazulyanov D.V.\, Kuznetsov I.A. B22-902
LOCATION:K-1219
SUMMARY:Life Cycle Management of Information Systems
RRULE:FREQ=WEEKLY;UNTIL=20250517T100500;INTERVAL=2;WKST=MO
EXDATE:20250308T083000
END:VEVENT
BEGIN:VEVENT
DTSTAMP:20260420T185008Z
UID:de0971be-0aa2-4511-91bf-2188befcfcd6
DTSTART;TZID=Europe/Moscow:20250208T101500
DTEND;TZID=Europe/Moscow:20250208T115000
DESCRIPTION:Kuznetsov I.A.\, Fazulyanov D.V. B22-902
LOCATION:K-1219
SUMMARY:Life Cycle Management of Information Systems
RRULE:FREQ=WEEKLY;UNTIL=20250301T115000;WKST=MO
END:VEVENT
BEGIN:VEVENT
DTSTAMP:20260420T185008Z
UID:01617270-9ec1-44ac-8c10-ccc25ef25002
DTSTART;TZID=Europe/Moscow:20250208T115500
DTEND;TZID=Europe/Moscow:20250208T142000
DESCRIPTION:Kuznetsov I.A.\, Fazulyanov D.V. B22-712\, B22-762
LOCATION:K-1219
SUMMARY:Life Cycle Management of Information Systems
RRULE:FREQ=WEEKLY;UNTIL=20250322T142000;WKST=MO
EXDATE:20250308T115500
END:VEVENT
BEGIN:VEVENT
DTSTAMP:20260420T185008Z
UID:ab71d678-50c0-4d94-ad7e-e4379694635f
DTSTART;TZID=Europe/Moscow:20250208T143000
DTEND;TZID=Europe/Moscow:20250208T170000
DESCRIPTION:Fazulyanov D.V.\, Kuznetsov I.A. B22-702
LOCATION:K-1219
SUMMARY:Life Cycle Management of Information Systems
RRULE:FREQ=WEEKLY;UNTIL=20250322T170000;WKST=MO
EXDATE:20250308T143000
END:VEVENT
BEGIN:VEVENT
DTSTAMP:20260420T185008Z
UID:27988515-487e-4990-9cf0-6c8c2aaea784
DTSTART;TZID=Europe/Moscow:20250308T101500
DTEND;TZID=Europe/Moscow:20250308T115000
DESCRIPTION:Fazulyanov D.V.\, Kuznetsov I.A. B22-902
LOCATION:K-1219
SUMMARY:Life Cycle Management of Information Systems
RRULE:FREQ=WEEKLY;UNTIL=20250517T115000;WKST=MO
EXDATE:20250308T101500
END:VEVENT
BEGIN:VEVENT
DTSTAMP:20260420T185008Z
UID:f98f82ff-6323-455a-9730-1a3aff5ebcf4
DTSTART;TZID=Europe/Moscow:20250329T115500
DTEND;TZID=Europe/Moscow:20250329T142000
DESCRIPTION:Kuznetsov I.A.\, Fazulyanov D.V. B22-712\, B22-762
LOCATION:K-1219
SUMMARY:Life Cycle Management of Information Systems
RRULE:FREQ=WEEKLY;UNTIL=20250517T142000;WKST=MO
END:VEVENT
BEGIN:VEVENT
DTSTAMP:20260420T185008Z
UID:93158b5a-6683-4400-aeb8-ee84a436abbd
DTSTART;TZID=Europe/Moscow:20250329T143000
DTEND;TZID=Europe/Moscow:20250329T170000
DESCRIPTION:Kuznetsov I.A.\, Fazulyanov D.V. B22-702
LOCATION:K-1219
SUMMARY:Life Cycle Management of Information Systems
RRULE:FREQ=WEEKLY;UNTIL=20250517T170000;WKST=MO
END:VEVENT
END:VCALENDAR
