BEGIN:VCALENDAR
VERSION:2.0
PRODID:icalendar-ruby
CALSCALE:GREGORIAN
METHOD:PUBLISH
BEGIN:VTIMEZONE
TZID:Europe/Moscow
BEGIN:STANDARD
DTSTART:19700101T000000
TZOFFSETFROM:+0300
TZOFFSETTO:+0300
TZNAME:MSK
END:STANDARD
END:VTIMEZONE
BEGIN:VEVENT
DTSTAMP:20260421T022145Z
UID:53de3dcc-62d8-4a04-9c15-18add8ab2dce
DTSTART;TZID=Europe/Moscow:20250212T083000
DTEND;TZID=Europe/Moscow:20250212T100500
DESCRIPTION:Ovsyannikova O.N. S21-703\, S21-712
LOCATION:B-217
SUMMARY:English Language: Speaking Practice
RRULE:FREQ=WEEKLY;UNTIL=20250521T100500;WKST=MO
END:VEVENT
BEGIN:VEVENT
DTSTAMP:20260421T022145Z
UID:1262c24a-671f-46aa-a877-9892ba374169
DTSTART;TZID=Europe/Moscow:20250213T083000
DTEND;TZID=Europe/Moscow:20250213T100500
DESCRIPTION:Ovsyannikova O.N. B23-711\, S23-762
LOCATION:B-212st
SUMMARY:English Language
RRULE:FREQ=WEEKLY;UNTIL=20250522T100500;WKST=MO
EXDATE:20250501T083000
EXDATE:20250508T083000
END:VEVENT
BEGIN:VEVENT
DTSTAMP:20260421T022145Z
UID:542c49a8-2ac1-448b-8b09-1882bd51dcde
DTSTART;TZID=Europe/Moscow:20250210T083000
DTEND;TZID=Europe/Moscow:20250210T100500
DESCRIPTION:Ovsyannikova O.N. B23-701\, B23-711
LOCATION:B-301
SUMMARY:English Language. Subgroup 1
RRULE:FREQ=WEEKLY;UNTIL=20250519T100500;WKST=MO
END:VEVENT
BEGIN:VEVENT
DTSTAMP:20260421T022145Z
UID:e65763af-2fa7-4739-8c99-1e4732d2f44e
DTSTART;TZID=Europe/Moscow:20250211T083000
DTEND;TZID=Europe/Moscow:20250211T100500
DESCRIPTION:Ovsyannikova O.N. B23-603
LOCATION:A-210
SUMMARY:English Language. Tehnicheskiy angliyskiy
RRULE:FREQ=WEEKLY;UNTIL=20250520T100500;WKST=MO
END:VEVENT
BEGIN:VEVENT
DTSTAMP:20260421T022145Z
UID:1d201b5d-c3ca-4cf5-b90e-a7b8c23c7c95
DTSTART;TZID=Europe/Moscow:20250213T101500
DTEND;TZID=Europe/Moscow:20250213T115000
DESCRIPTION:Ovsyannikova O.N. S22-702
LOCATION:323
SUMMARY:English: Subject-Specific Terminology. Subgroup 2
RRULE:FREQ=WEEKLY;UNTIL=20250522T115000;WKST=MO
EXDATE:20250501T101500
EXDATE:20250508T101500
END:VEVENT
BEGIN:VEVENT
DTSTAMP:20260421T022145Z
UID:0ed36677-53f9-4747-acf1-e0c3a3c94bc1
DTSTART;TZID=Europe/Moscow:20250211T101500
DTEND;TZID=Europe/Moscow:20250211T115000
DESCRIPTION:Ovsyannikova O.N. S24-701\, S24-711
LOCATION:A-210
SUMMARY:Foreign Language. Subgroup 22E Grammatika
RRULE:FREQ=WEEKLY;UNTIL=20250520T115000;WKST=MO
END:VEVENT
BEGIN:VEVENT
DTSTAMP:20260421T022145Z
UID:f95a27fa-53c3-4f62-9334-5139f85739cd
DTSTART;TZID=Europe/Moscow:20250212T101500
DTEND;TZID=Europe/Moscow:20250212T115000
DESCRIPTION:Ovsyannikova O.N. B24-702\, S24-722
LOCATION:A-212
SUMMARY:Foreign Language. Subgroup 32E Obschiy angliyskiy
RRULE:FREQ=WEEKLY;UNTIL=20250521T115000;WKST=MO
END:VEVENT
BEGIN:VEVENT
DTSTAMP:20260421T022145Z
UID:fba9a3c0-9b92-400f-baca-e6b5d1a3ffb4
DTSTART;TZID=Europe/Moscow:20250210T101500
DTEND;TZID=Europe/Moscow:20250210T115000
DESCRIPTION:Ovsyannikova O.N. B23-702\, B23-712
LOCATION:B-301
SUMMARY:English Language. Subgroup 1
RRULE:FREQ=WEEKLY;UNTIL=20250519T115000;WKST=MO
END:VEVENT
BEGIN:VEVENT
DTSTAMP:20260421T022145Z
UID:707c682e-948e-4832-b86d-4d70a34c5064
DTSTART;TZID=Europe/Moscow:20250213T115500
DTEND;TZID=Europe/Moscow:20250213T133000
DESCRIPTION:Ovsyannikova O.N. S21-711
LOCATION:V-415
SUMMARY:English Language: Speaking Practice. Subgroup 2
RRULE:FREQ=WEEKLY;UNTIL=20250515T133000;WKST=MO
EXDATE:20250501T115500
EXDATE:20250508T115500
END:VEVENT
BEGIN:VEVENT
DTSTAMP:20260421T022145Z
UID:56165147-ed71-46b1-9652-e4a1543fb856
DTSTART;TZID=Europe/Moscow:20250212T115500
DTEND;TZID=Europe/Moscow:20250212T133000
DESCRIPTION:Ovsyannikova O.N. S23-711
LOCATION:A-212
SUMMARY:English Language. Subgroup 1
RRULE:FREQ=WEEKLY;UNTIL=20250521T133000;WKST=MO
END:VEVENT
BEGIN:VEVENT
DTSTAMP:20260421T022145Z
UID:b97713e3-1180-4d5d-8ccf-aaabb0f1fe09
DTSTART;TZID=Europe/Moscow:20250211T124500
DTEND;TZID=Europe/Moscow:20250211T142000
DESCRIPTION:Ovsyannikova O.N. S21-711
LOCATION:A-210
SUMMARY:English Language: Speaking Practice. Subgroup 1
RRULE:FREQ=WEEKLY;UNTIL=20250513T142000;WKST=MO
END:VEVENT
BEGIN:VEVENT
DTSTAMP:20260421T022145Z
UID:b1fab9ae-7cf3-4b64-958b-d8bc97abf6d9
DTSTART;TZID=Europe/Moscow:20250210T124500
DTEND;TZID=Europe/Moscow:20250210T142000
DESCRIPTION:Ovsyannikova O.N. B23-902
LOCATION:B-213
SUMMARY:English Language. Subgroup 2
RRULE:FREQ=WEEKLY;UNTIL=20250519T142000;WKST=MO
END:VEVENT
BEGIN:VEVENT
DTSTAMP:20260421T022145Z
UID:9492e24e-5b02-472c-ac4f-c06c7d93fe00
DTSTART;TZID=Europe/Moscow:20250211T143000
DTEND;TZID=Europe/Moscow:20250211T160500
DESCRIPTION:Ovsyannikova O.N. S21-702\, S21-762
LOCATION:A-210
SUMMARY:English Language: Speaking Practice
RRULE:FREQ=WEEKLY;UNTIL=20250520T160500;WKST=MO
END:VEVENT
BEGIN:VEVENT
DTSTAMP:20260421T022145Z
UID:26365a3e-dea3-4c32-89b8-7d09b0769ffb
DTSTART;TZID=Europe/Moscow:20250210T143000
DTEND;TZID=Europe/Moscow:20250210T160500
DESCRIPTION:Ovsyannikova O.N. S22-701\, S22-703
LOCATION:B-301
SUMMARY:English Language: Special Terminology. Subgroup 1
RRULE:FREQ=WEEKLY;UNTIL=20250519T160500;WKST=MO
END:VEVENT
BEGIN:VEVENT
DTSTAMP:20260421T022145Z
UID:e85f9a92-c2f3-463f-8e0c-2ce8d2b00cb4
DTSTART;TZID=Europe/Moscow:20250213T143000
DTEND;TZID=Europe/Moscow:20250213T160500
DESCRIPTION:Ovsyannikova O.N. B24-603\, B24-611\, S24-602
LOCATION:A-308
SUMMARY:Foreign Language. Subgroup 44A Grammatika
RRULE:FREQ=WEEKLY;UNTIL=20250522T160500;WKST=MO
EXDATE:20250501T143000
EXDATE:20250508T143000
END:VEVENT
BEGIN:VEVENT
DTSTAMP:20260421T022145Z
UID:cc974528-59b3-4277-895a-ba78b6f728a4
DTSTART;TZID=Europe/Moscow:20250210T161500
DTEND;TZID=Europe/Moscow:20250210T175000
DESCRIPTION:Ovsyannikova O.N. S22-702
LOCATION:B-301
SUMMARY:English: Subject-Specific Terminology. Subgroup 1
RRULE:FREQ=WEEKLY;UNTIL=20250519T175000;WKST=MO
END:VEVENT
BEGIN:VEVENT
DTSTAMP:20260421T022145Z
UID:374b8fca-db05-4cd9-a802-e017078d213c
DTSTART;TZID=Europe/Moscow:20250213T161500
DTEND;TZID=Europe/Moscow:20250213T175000
DESCRIPTION:Ovsyannikova O.N. B22-701
LOCATION:A-308
SUMMARY:Business English. Subgroup 2
RRULE:FREQ=WEEKLY;UNTIL=20250522T175000;WKST=MO
EXDATE:20250501T161500
EXDATE:20250508T161500
END:VEVENT
BEGIN:VEVENT
DTSTAMP:20260421T022145Z
UID:f9934f24-5728-4385-8674-813c5748cc00
DTSTART;TZID=Europe/Moscow:20250211T161500
DTEND;TZID=Europe/Moscow:20250211T175000
DESCRIPTION:Ovsyannikova O.N. B24-504\, B24-507
LOCATION:A-210
SUMMARY:Foreign Language. Subgroup 25C Grammatika
RRULE:FREQ=WEEKLY;UNTIL=20250520T175000;WKST=MO
END:VEVENT
END:VCALENDAR
