BEGIN:VCALENDAR
VERSION:2.0
PRODID:icalendar-ruby
CALSCALE:GREGORIAN
METHOD:PUBLISH
BEGIN:VTIMEZONE
TZID:Europe/Moscow
BEGIN:STANDARD
DTSTART:19700101T000000
TZOFFSETFROM:+0300
TZOFFSETTO:+0300
TZNAME:MSK
END:STANDARD
END:VTIMEZONE
BEGIN:VEVENT
DTSTAMP:20260420T184739Z
UID:8f3dc8c9-99a7-43ff-be8a-342e3493fba4
DTSTART;TZID=Europe/Moscow:20250212T101500
DTEND;TZID=Europe/Moscow:20250212T115000
DESCRIPTION:Modyaev A.D.\, Makienko D.O. B24-102
LOCATION:V-109
SUMMARY:Informatics
RRULE:FREQ=WEEKLY;UNTIL=20250521T115000;WKST=MO
END:VEVENT
BEGIN:VEVENT
DTSTAMP:20260420T184739Z
UID:ec0261bc-890a-426b-9b54-102647ed3d8c
DTSTART;TZID=Europe/Moscow:20250212T115500
DTEND;TZID=Europe/Moscow:20250212T133000
DESCRIPTION:Modyaev A.D.\, Makienko D.O. B24-161\, B24-163\, B24-167
LOCATION:V-118
SUMMARY:Informatics
RRULE:FREQ=WEEKLY;UNTIL=20250521T133000;WKST=MO
END:VEVENT
BEGIN:VEVENT
DTSTAMP:20260420T184739Z
UID:0ae86d65-9b07-4196-a256-9f1cfb33f83e
DTSTART;TZID=Europe/Moscow:20250212T143000
DTEND;TZID=Europe/Moscow:20250212T160500
DESCRIPTION:Makienko D.O. B23-161\, B23-162\, B23-163
LOCATION:V-103
SUMMARY:Informatics
RRULE:FREQ=WEEKLY;UNTIL=20250521T160500;WKST=MO
END:VEVENT
END:VCALENDAR
