BEGIN:VCALENDAR
VERSION:2.0
PRODID:icalendar-ruby
CALSCALE:GREGORIAN
METHOD:PUBLISH
BEGIN:VTIMEZONE
TZID:Europe/Moscow
BEGIN:STANDARD
DTSTART:19700101T000000
TZOFFSETFROM:+0300
TZOFFSETTO:+0300
TZNAME:MSK
END:STANDARD
END:VTIMEZONE
BEGIN:VEVENT
DTSTAMP:20260420T025447Z
UID:fe78695a-4981-4412-8a25-5a8ccb039104
DTSTART;TZID=Europe/Moscow:20250210T083000
DTEND;TZID=Europe/Moscow:20250210T115000
DESCRIPTION:Yurkin Y.T. B22-102
LOCATION:E-003
SUMMARY:Introduction to Nuclear Physics. Subgroup 2
RRULE:FREQ=WEEKLY;UNTIL=20250519T115000;INTERVAL=2;WKST=MO
END:VEVENT
BEGIN:VEVENT
DTSTAMP:20260420T025447Z
UID:865c8ca1-185b-427c-aca7-9615dce1d26f
DTSTART;TZID=Europe/Moscow:20250218T083000
DTEND;TZID=Europe/Moscow:20250218T115000
DESCRIPTION:Yurkin Y.T. S22-101
LOCATION:E-003
SUMMARY:Introduction to Nuclear Physics. Subgroup 3
RRULE:FREQ=WEEKLY;UNTIL=20250513T115000;INTERVAL=2;WKST=MO
END:VEVENT
BEGIN:VEVENT
DTSTAMP:20260420T025447Z
UID:552667a8-867e-41ed-b850-d34dd60eee77
DTSTART;TZID=Europe/Moscow:20250207T143000
DTEND;TZID=Europe/Moscow:20250207T175000
DESCRIPTION:Yurkin Y.T. B22-202
LOCATION:E-112
SUMMARY:Introduction to Nuclear Physics. Subgroup 1
RRULE:FREQ=WEEKLY;UNTIL=20250516T175000;INTERVAL=2;WKST=MO
END:VEVENT
BEGIN:VEVENT
DTSTAMP:20260420T025447Z
UID:0a136510-093c-48fe-ba9c-7f1a2bd562a5
DTSTART;TZID=Europe/Moscow:20250212T143000
DTEND;TZID=Europe/Moscow:20250212T175000
DESCRIPTION:Yurkin Y.T. B22-403
LOCATION:E-112
SUMMARY:Introduction to Nuclear Physics. Subgroup 3
RRULE:FREQ=WEEKLY;UNTIL=20250521T175000;INTERVAL=2;WKST=MO
END:VEVENT
BEGIN:VEVENT
DTSTAMP:20260420T025447Z
UID:a75e18ff-4c65-401e-a262-e5d454d9a35b
DTSTART;TZID=Europe/Moscow:20250211T143000
DTEND;TZID=Europe/Moscow:20250211T175000
DESCRIPTION:Yurkin Y.T. S22-602
LOCATION:E-112
SUMMARY:Nuclear Physics. Subgroup 2
RRULE:FREQ=WEEKLY;UNTIL=20250520T175000;INTERVAL=2;WKST=MO
END:VEVENT
BEGIN:VEVENT
DTSTAMP:20260420T025447Z
UID:31c5e78b-3b52-47ae-8928-74fed48d4493
DTSTART;TZID=Europe/Moscow:20250219T143000
DTEND;TZID=Europe/Moscow:20250219T175000
DESCRIPTION:Yurkin Y.T. B22-413
LOCATION:E-003
SUMMARY:Introduction to Nuclear Physics. Subgroup 2
RRULE:FREQ=WEEKLY;UNTIL=20250514T175000;INTERVAL=2;WKST=MO
END:VEVENT
BEGIN:VEVENT
DTSTAMP:20260420T025447Z
UID:19e39a95-eccb-4113-84bc-266d98944341
DTSTART;TZID=Europe/Moscow:20250210T161500
DTEND;TZID=Europe/Moscow:20250210T175000
DESCRIPTION:Yurkin Y.T. B22-105
LOCATION:NLK-4.53
SUMMARY:English Language (Nuclear Physics and Cosmophysics). Subgroup 1
RRULE:FREQ=WEEKLY;UNTIL=20250519T175000;WKST=MO
END:VEVENT
END:VCALENDAR
