BEGIN:VCALENDAR
VERSION:2.0
PRODID:icalendar-ruby
CALSCALE:GREGORIAN
METHOD:PUBLISH
BEGIN:VTIMEZONE
TZID:Europe/Moscow
BEGIN:STANDARD
DTSTART:19700101T000000
TZOFFSETFROM:+0300
TZOFFSETTO:+0300
TZNAME:MSK
END:STANDARD
END:VTIMEZONE
BEGIN:VEVENT
DTSTAMP:20260419T223712Z
UID:3c0ce0a1-a9e2-4bd7-b33a-b2f58a036e9d
DTSTART;TZID=Europe/Moscow:20250210T101500
DTEND;TZID=Europe/Moscow:20250210T115000
DESCRIPTION:Grachev V.M.\, Shustov A.E.\, Nigmatkulov G.A.\, Mayorov A.
 G.\, Madzhidov A.I.\, Korotkov M.G. B21-105
LOCATION:dep.7
SUMMARY:Industry Workshop: research on nuclear physics and cosmophysics
RRULE:FREQ=WEEKLY;UNTIL=20250414T115000;WKST=MO
END:VEVENT
BEGIN:VEVENT
DTSTAMP:20260419T223712Z
UID:3fa3db5f-366e-45f2-9f93-ffdf9543835b
DTSTART;TZID=Europe/Moscow:20250213T115500
DTEND;TZID=Europe/Moscow:20250213T133000
DESCRIPTION:Shustov A.E. B22-102\, B22-182
LOCATION:K-1006
SUMMARY:Introduction to Nuclear Physics
RRULE:FREQ=WEEKLY;UNTIL=20250522T133000;INTERVAL=2;WKST=MO
EXDATE:20250508T115500
END:VEVENT
BEGIN:VEVENT
DTSTAMP:20260419T223712Z
UID:eefa07c0-4931-4e43-b5d7-eb839f013973
DTSTART;TZID=Europe/Moscow:20250219T115500
DTEND;TZID=Europe/Moscow:20250219T133000
DESCRIPTION:Shustov A.E. B22-103
LOCATION:K-1117
SUMMARY:Introduction to Nuclear Physics
RRULE:FREQ=WEEKLY;UNTIL=20250514T133000;INTERVAL=2;WKST=MO
END:VEVENT
BEGIN:VEVENT
DTSTAMP:20260419T223712Z
UID:a79eb50f-ee84-4386-96af-752c8998ee78
DTSTART;TZID=Europe/Moscow:20250217T143000
DTEND;TZID=Europe/Moscow:20250217T160500
DESCRIPTION:Shustov A.E. B22-401\, B22-413
LOCATION:K-1117
SUMMARY:Introduction to Nuclear Physics
RRULE:FREQ=WEEKLY;UNTIL=20250512T160500;INTERVAL=2;WKST=MO
END:VEVENT
BEGIN:VEVENT
DTSTAMP:20260419T223712Z
UID:db32ed8f-0e2b-43fd-a090-f1ad0eebb062
DTSTART;TZID=Europe/Moscow:20250219T143000
DTEND;TZID=Europe/Moscow:20250219T160500
DESCRIPTION:Shustov A.E. S22-103
LOCATION:K-1010
SUMMARY:Introduction to Nuclear Physics
RRULE:FREQ=WEEKLY;UNTIL=20250514T160500;INTERVAL=2;WKST=MO
END:VEVENT
BEGIN:VEVENT
DTSTAMP:20260419T223712Z
UID:996e7c71-efb5-42e7-a6de-6fe83d3ef81c
DTSTART;TZID=Europe/Moscow:20250208T161500
DTEND;TZID=Europe/Moscow:20250208T175000
DESCRIPTION:Shustov A.E. B22-105
LOCATION:K-1120
SUMMARY:Introduction to Nuclear Physics
RRULE:FREQ=WEEKLY;UNTIL=20250517T175000;INTERVAL=2;WKST=MO
EXDATE:20250308T161500
END:VEVENT
BEGIN:VEVENT
DTSTAMP:20260419T223712Z
UID:a87603ee-3237-49f6-9f51-103b94271c5b
DTSTART;TZID=Europe/Moscow:20250210T161500
DTEND;TZID=Europe/Moscow:20250210T175000
DESCRIPTION:Shustov A.E. B22-101\, B22-111
LOCATION:V-103
SUMMARY:Introduction to Nuclear Physics
RRULE:FREQ=WEEKLY;UNTIL=20250519T175000;INTERVAL=2;WKST=MO
END:VEVENT
BEGIN:VEVENT
DTSTAMP:20260419T223712Z
UID:65b23b48-5cc1-47ae-af49-f960ef78ffb4
DTSTART;TZID=Europe/Moscow:20250217T161500
DTEND;TZID=Europe/Moscow:20250217T175000
DESCRIPTION:Shustov A.E. B22-200\, B22-202\, B22-203\, B22-212
LOCATION:K-1120
SUMMARY:Introduction to Nuclear Physics
RRULE:FREQ=WEEKLY;UNTIL=20250512T175000;INTERVAL=2;WKST=MO
END:VEVENT
BEGIN:VEVENT
DTSTAMP:20260419T223712Z
UID:12eb3b63-4a82-4269-9c9a-fb2000f48722
DTSTART;TZID=Europe/Moscow:20250219T161500
DTEND;TZID=Europe/Moscow:20250219T175000
DESCRIPTION:Shustov A.E. S22-101
LOCATION:K-1010
SUMMARY:Introduction to Nuclear Physics
RRULE:FREQ=WEEKLY;UNTIL=20250514T175000;INTERVAL=2;WKST=MO
END:VEVENT
BEGIN:VEVENT
DTSTAMP:20260419T223712Z
UID:710863be-2ee4-4371-a4dc-725bc41c33ae
DTSTART;TZID=Europe/Moscow:20250217T184500
DTEND;TZID=Europe/Moscow:20250217T202000
DESCRIPTION:Shustov A.E. B22-104
LOCATION:NLK-4.25
SUMMARY:Introduction to Nuclear Physics
RRULE:FREQ=WEEKLY;UNTIL=20250512T202000;INTERVAL=2;WKST=MO
END:VEVENT
END:VCALENDAR
