BEGIN:VCALENDAR
VERSION:2.0
PRODID:icalendar-ruby
CALSCALE:GREGORIAN
METHOD:PUBLISH
BEGIN:VTIMEZONE
TZID:Europe/Moscow
BEGIN:STANDARD
DTSTART:19700101T000000
TZOFFSETFROM:+0300
TZOFFSETTO:+0300
TZNAME:MSK
END:STANDARD
END:VTIMEZONE
BEGIN:VEVENT
DTSTAMP:20260419T221110Z
UID:979f103e-5161-4040-9a26-9c9d19272f1e
DTSTART;TZID=Europe/Moscow:20250211T101500
DTEND;TZID=Europe/Moscow:20250211T115000
DESCRIPTION:Poletaeva A.R. B23-612
LOCATION:T-102
SUMMARY:Theoretical Mechanics
RRULE:FREQ=WEEKLY;UNTIL=20250520T115000;WKST=MO
END:VEVENT
BEGIN:VEVENT
DTSTAMP:20260419T221110Z
UID:4133348b-8f31-4163-986b-970585e42aa7
DTSTART;TZID=Europe/Moscow:20250211T115500
DTEND;TZID=Europe/Moscow:20250211T133000
DESCRIPTION:Poletaeva A.R. B23-611
LOCATION:T-107
SUMMARY:Theoretical Mechanics
RRULE:FREQ=WEEKLY;UNTIL=20250520T133000;WKST=MO
END:VEVENT
END:VCALENDAR
