BEGIN:VCALENDAR
VERSION:2.0
PRODID:icalendar-ruby
CALSCALE:GREGORIAN
METHOD:PUBLISH
BEGIN:VTIMEZONE
TZID:Europe/Moscow
BEGIN:STANDARD
DTSTART:19700101T000000
TZOFFSETFROM:+0300
TZOFFSETTO:+0300
TZNAME:MSK
END:STANDARD
END:VTIMEZONE
BEGIN:VEVENT
DTSTAMP:20260420T012115Z
UID:8bc8c2ee-4792-4de2-b30e-d33e3886ede1
DTSTART;TZID=Europe/Moscow:20250207T083000
DTEND;TZID=Europe/Moscow:20250207T100500
DESCRIPTION:Telyakovskiy D.S. B23-901
LOCATION:A-205
SUMMARY:Functions of a Complex Variable Theory 
RRULE:FREQ=WEEKLY;UNTIL=20250516T100500;WKST=MO
EXDATE:20250509T083000
END:VEVENT
BEGIN:VEVENT
DTSTAMP:20260420T012115Z
UID:2e61eab6-35f0-457f-9dd1-c7e3b4edb5c4
DTSTART;TZID=Europe/Moscow:20250212T083000
DTEND;TZID=Europe/Moscow:20250212T100500
DESCRIPTION:Telyakovskiy D.S. B23-502\, B23-503\, B23-505\, B23-506\, B23-
 513\, B23-515\, B23-516\, B23-563\, B23-565\, B23-605\, B23-703\, B23-713\
 , B23-763\, B23-901\, S23-501
LOCATION:406
SUMMARY:Functions of a Complex Variable Theory 
RRULE:FREQ=WEEKLY;UNTIL=20250521T100500;WKST=MO
END:VEVENT
BEGIN:VEVENT
DTSTAMP:20260420T012115Z
UID:f2b1f93c-7bda-47b3-a3d5-5891b83f8050
DTSTART;TZID=Europe/Moscow:20250212T101500
DTEND;TZID=Europe/Moscow:20250212T115000
DESCRIPTION:Telyakovskiy D.S. B23-505\, B23-605
LOCATION:B-208
SUMMARY:Functions of a Complex Variable Theory 
RRULE:FREQ=WEEKLY;UNTIL=20250521T115000;WKST=MO
END:VEVENT
BEGIN:VEVENT
DTSTAMP:20260420T012115Z
UID:94174662-9601-49f8-9c23-0d58c1fe4252
DTSTART;TZID=Europe/Moscow:20250211T101500
DTEND;TZID=Europe/Moscow:20250211T115000
DESCRIPTION:Telyakovskiy D.S. B23-501\, B23-504\, B23-511\, B23-514\, B23-
 524\, B23-534\, B23-544\, B23-554
LOCATION:407
SUMMARY:Functions of a Complex Variable Theory 
RRULE:FREQ=WEEKLY;UNTIL=20250520T115000;WKST=MO
END:VEVENT
BEGIN:VEVENT
DTSTAMP:20260420T012115Z
UID:8c061189-1ffe-4190-b484-4cf754fbe396
DTSTART;TZID=Europe/Moscow:20250207T101500
DTEND;TZID=Europe/Moscow:20250207T115000
DESCRIPTION:Telyakovskiy D.S. B23-513
LOCATION:A-205
SUMMARY:Functions of a Complex Variable Theory 
RRULE:FREQ=WEEKLY;UNTIL=20250516T115000;WKST=MO
EXDATE:20250509T101500
END:VEVENT
BEGIN:VEVENT
DTSTAMP:20260420T012115Z
UID:c76d473c-d42a-4fc9-b271-7501ef79af5c
DTSTART;TZID=Europe/Moscow:20250207T124500
DTEND;TZID=Europe/Moscow:20250207T142000
DESCRIPTION:Telyakovskiy D.S. B23-515
LOCATION:V-404
SUMMARY:Functions of a Complex Variable Theory 
RRULE:FREQ=WEEKLY;UNTIL=20250516T142000;WKST=MO
EXDATE:20250509T124500
END:VEVENT
BEGIN:VEVENT
DTSTAMP:20260420T012115Z
UID:225d4c4c-465f-4408-9005-ccfbd0bc86fd
DTSTART;TZID=Europe/Moscow:20250212T124500
DTEND;TZID=Europe/Moscow:20250212T142000
DESCRIPTION:Telyakovskiy D.S. B23-503\, B23-563\, B23-565
LOCATION:K-211
SUMMARY:Functions of a Complex Variable Theory 
RRULE:FREQ=WEEKLY;UNTIL=20250521T142000;WKST=MO
END:VEVENT
BEGIN:VEVENT
DTSTAMP:20260420T012115Z
UID:634b9fb6-25ac-4e6c-8404-50f07a2aa36d
DTSTART;TZID=Europe/Moscow:20250211T124500
DTEND;TZID=Europe/Moscow:20250211T142000
DESCRIPTION:Telyakovskiy D.S. B23-514
LOCATION:NLK-3.44
SUMMARY:Functions of a Complex Variable Theory 
RRULE:FREQ=WEEKLY;UNTIL=20250520T142000;WKST=MO
END:VEVENT
BEGIN:VEVENT
DTSTAMP:20260420T012115Z
UID:4ee9e4c4-7082-433c-8d89-3eb2f2ec39e3
DTSTART;TZID=Europe/Moscow:20250211T143000
DTEND;TZID=Europe/Moscow:20250211T160500
DESCRIPTION:Telyakovskiy D.S. B23-516
LOCATION:NLK-3.44
SUMMARY:Functions of a Complex Variable Theory 
RRULE:FREQ=WEEKLY;UNTIL=20250520T160500;WKST=MO
END:VEVENT
END:VCALENDAR
