BEGIN:VCALENDAR
VERSION:2.0
PRODID:icalendar-ruby
CALSCALE:GREGORIAN
METHOD:PUBLISH
BEGIN:VTIMEZONE
TZID:Europe/Moscow
BEGIN:STANDARD
DTSTART:19700101T000000
TZOFFSETFROM:+0300
TZOFFSETTO:+0300
TZNAME:MSK
END:STANDARD
END:VTIMEZONE
BEGIN:VEVENT
DTSTAMP:20260419T120537Z
UID:244ab4e1-b0c1-458b-9d86-114705748fa0
DTSTART;TZID=Europe/Moscow:20250211T115500
DTEND;TZID=Europe/Moscow:20250211T133000
DESCRIPTION:Tyurin D.I. B23-222
LOCATION:NLK-3.68
SUMMARY:Theoretical Mechanics
RRULE:FREQ=WEEKLY;UNTIL=20250520T133000;WKST=MO
END:VEVENT
BEGIN:VEVENT
DTSTAMP:20260419T120537Z
UID:75fbce9e-2057-4e16-8631-5a16e615bfdd
DTSTART;TZID=Europe/Moscow:20250212T124500
DTEND;TZID=Europe/Moscow:20250212T142000
DESCRIPTION:Tyurin D.I. B23-201
LOCATION:K-202
SUMMARY:Theoretical Mechanics
RRULE:FREQ=WEEKLY;UNTIL=20250305T142000;WKST=MO
END:VEVENT
BEGIN:VEVENT
DTSTAMP:20260419T120537Z
UID:891002db-a0ef-492c-8ced-b282b59f142d
DTSTART;TZID=Europe/Moscow:20250312T124500
DTEND;TZID=Europe/Moscow:20250312T142000
DESCRIPTION:Tyurin D.I. B23-201
LOCATION:T-209
SUMMARY:Theoretical Mechanics
RRULE:FREQ=WEEKLY;UNTIL=20250521T142000;WKST=MO
END:VEVENT
END:VCALENDAR
