BEGIN:VCALENDAR
VERSION:2.0
PRODID:icalendar-ruby
CALSCALE:GREGORIAN
METHOD:PUBLISH
BEGIN:VTIMEZONE
TZID:Europe/Moscow
BEGIN:STANDARD
DTSTART:19700101T000000
TZOFFSETFROM:+0300
TZOFFSETTO:+0300
TZNAME:MSK
END:STANDARD
END:VTIMEZONE
BEGIN:VEVENT
DTSTAMP:20260421T021852Z
UID:378397ef-2bd5-47a8-a292-ad98d7f5063b
DTSTART;TZID=Europe/Moscow:20250207T083000
DTEND;TZID=Europe/Moscow:20250207T100500
DESCRIPTION:Karachurin R.N. B23-215
LOCATION:K-1109
SUMMARY:Practicum Project
RRULE:FREQ=WEEKLY;UNTIL=20250425T100500;WKST=MO
END:VEVENT
BEGIN:VEVENT
DTSTAMP:20260421T021852Z
UID:8382fe9d-5490-41d2-9e68-54c1f9ae4ab5
DTSTART;TZID=Europe/Moscow:20250207T101500
DTEND;TZID=Europe/Moscow:20250207T115000
DESCRIPTION:Ladygin S.A.\, Karachurin R.N. B22-205\, B22-215
LOCATION:NLK-4.35
SUMMARY:
RRULE:FREQ=WEEKLY;UNTIL=20250516T115000;WKST=MO
EXDATE:20250509T101500
END:VEVENT
END:VCALENDAR
