BEGIN:VCALENDAR
VERSION:2.0
PRODID:icalendar-ruby
CALSCALE:GREGORIAN
METHOD:PUBLISH
BEGIN:VTIMEZONE
TZID:Europe/Moscow
BEGIN:STANDARD
DTSTART:19700101T000000
TZOFFSETFROM:+0300
TZOFFSETTO:+0300
TZNAME:MSK
END:STANDARD
END:VTIMEZONE
BEGIN:VEVENT
DTSTAMP:20260419T120452Z
UID:8e07f5b6-f84a-41c5-a122-36cdf068ac87
DTSTART;TZID=Europe/Moscow:20250219T083000
DTEND;TZID=Europe/Moscow:20250219T115000
DESCRIPTION:Vovchenko E.D.\, Kondratiev K.A. B22-212
LOCATION:FIAN
SUMMARY:Oscillations in Quantum Radiophysics Theory 
RRULE:FREQ=WEEKLY;UNTIL=20250514T115000;INTERVAL=2;WKST=MO
END:VEVENT
BEGIN:VEVENT
DTSTAMP:20260419T120452Z
UID:34da7a1e-c7c4-4b88-a20f-3c00ae2fdfe4
DTSTART;TZID=Europe/Moscow:20250207T101500
DTEND;TZID=Europe/Moscow:20250207T115000
DESCRIPTION:Kondratiev K.A. B23-401\, B23-411\, B23-413\, B23-423
LOCATION:NLK-2.20
SUMMARY:Theoretical Mechanics
RRULE:FREQ=WEEKLY;UNTIL=20250502T115000;WKST=MO
END:VEVENT
BEGIN:VEVENT
DTSTAMP:20260419T120452Z
UID:c798cc37-27be-4604-ac30-391ce3b9d809
DTSTART;TZID=Europe/Moscow:20250213T101500
DTEND;TZID=Europe/Moscow:20250213T115000
DESCRIPTION:Kondratiev K.A. B23-205\, B23-215\, B23-601\, B23-602\, B23-60
 3\, B23-604\, B23-605\, B23-611\, B23-612\, B23-614\, B23-901\, S23-602
LOCATION:A-100
SUMMARY:Theoretical Mechanics
RRULE:FREQ=WEEKLY;UNTIL=20250522T115000;WKST=MO
EXDATE:20250501T101500
EXDATE:20250508T101500
END:VEVENT
BEGIN:VEVENT
DTSTAMP:20260419T120452Z
UID:2bf7e175-2ae9-47bc-91df-5ca227196118
DTSTART;TZID=Europe/Moscow:20250207T124500
DTEND;TZID=Europe/Moscow:20250207T142000
DESCRIPTION:Kondratiev K.A. B23-311\, B23-361
LOCATION:B-218
SUMMARY:Theoretical Mechanics
RRULE:FREQ=WEEKLY;UNTIL=20250516T142000;WKST=MO
EXDATE:20250509T124500
END:VEVENT
BEGIN:VEVENT
DTSTAMP:20260419T120452Z
UID:b504968a-6c22-41d6-ad09-8fb71de948af
DTSTART;TZID=Europe/Moscow:20250213T124500
DTEND;TZID=Europe/Moscow:20250213T142000
DESCRIPTION:Kondratiev K.A. S23-114
LOCATION:K-1117
SUMMARY:Theoretical Mechanics
RRULE:FREQ=WEEKLY;UNTIL=20250522T142000;WKST=MO
EXDATE:20250501T124500
EXDATE:20250508T124500
END:VEVENT
BEGIN:VEVENT
DTSTAMP:20260419T120452Z
UID:1fdc5a81-8761-4944-a548-a189e75560dc
DTSTART;TZID=Europe/Moscow:20250207T143000
DTEND;TZID=Europe/Moscow:20250207T160500
DESCRIPTION:Kondratiev K.A. B23-604
LOCATION:V-404
SUMMARY:Theoretical Mechanics
RRULE:FREQ=WEEKLY;UNTIL=20250516T160500;WKST=MO
EXDATE:20250509T143000
END:VEVENT
BEGIN:VEVENT
DTSTAMP:20260419T120452Z
UID:9cd0cce0-aa4e-4c40-8c98-90d77ceecb8c
DTSTART;TZID=Europe/Moscow:20250212T143000
DTEND;TZID=Europe/Moscow:20250212T160500
DESCRIPTION:Ivliev S.V.\, Kondratiev K.A. B22-203\, B22-204\, B22-212
LOCATION:K-1102
SUMMARY:Oscillation Theory\; Oscillations in Quantum Radiophysics Theory 
RRULE:FREQ=WEEKLY;UNTIL=20250521T160500;WKST=MO
END:VEVENT
BEGIN:VEVENT
DTSTAMP:20260419T120452Z
UID:e813e17b-1bad-46d3-b451-59f6caa74727
DTSTART;TZID=Europe/Moscow:20250213T161500
DTEND;TZID=Europe/Moscow:20250213T175000
DESCRIPTION:Kondratiev K.A. B23-602\, B23-603
LOCATION:V-415
SUMMARY:Theoretical Mechanics
RRULE:FREQ=WEEKLY;UNTIL=20250522T175000;WKST=MO
EXDATE:20250501T161500
EXDATE:20250508T161500
END:VEVENT
BEGIN:VEVENT
DTSTAMP:20260419T120452Z
UID:b64af98e-f5e9-4953-9be8-9d4e9b9be76d
DTSTART;TZID=Europe/Moscow:20250509T101500
DTEND;TZID=Europe/Moscow:20250509T115000
DESCRIPTION:Kondratiev K.A. B23-401\, B23-411\, B23-413\, B23-423
LOCATION:K-210
SUMMARY:Theoretical Mechanics
RRULE:FREQ=WEEKLY;UNTIL=20250516T115000;WKST=MO
EXDATE:20250509T101500
END:VEVENT
END:VCALENDAR
