BEGIN:VCALENDAR
VERSION:2.0
PRODID:icalendar-ruby
CALSCALE:GREGORIAN
METHOD:PUBLISH
BEGIN:VTIMEZONE
TZID:Europe/Moscow
BEGIN:STANDARD
DTSTART:19700101T000000
TZOFFSETFROM:+0300
TZOFFSETTO:+0300
TZNAME:MSK
END:STANDARD
END:VTIMEZONE
BEGIN:VEVENT
DTSTAMP:20260419T221048Z
UID:3a3b06ea-b9b5-4154-b914-6cbc0b5f680e
DTSTART;TZID=Europe/Moscow:20250210T101500
DTEND;TZID=Europe/Moscow:20250210T115000
DESCRIPTION:Ovchinnikova A.O. B22-205\, B22-215
LOCATION:NLK-4.51
SUMMARY:Supplementary Chapters in Mathematical Statistics
RRULE:FREQ=WEEKLY;UNTIL=20250519T115000;WKST=MO
END:VEVENT
BEGIN:VEVENT
DTSTAMP:20260419T221048Z
UID:abad0c43-c367-46e5-910b-b5be730411bf
DTSTART;TZID=Europe/Moscow:20250208T101500
DTEND;TZID=Europe/Moscow:20250208T115000
DESCRIPTION:Ovchinnikova A.O. B23-215
LOCATION:B-219
SUMMARY:
RRULE:FREQ=WEEKLY;UNTIL=20250517T115000;WKST=MO
EXDATE:20250308T101500
END:VEVENT
BEGIN:VEVENT
DTSTAMP:20260419T221048Z
UID:c9d850b0-c086-4999-af50-2e7b6ce4ceef
DTSTART;TZID=Europe/Moscow:20250210T124500
DTEND;TZID=Europe/Moscow:20250210T142000
DESCRIPTION:Ovchinnikova A.O. B22-205\, B22-215\, B23-205\, B23-215\, B23-
 222
LOCATION:401
SUMMARY:Supplementary Chapters in Mathematical Statistics
RRULE:FREQ=WEEKLY;UNTIL=20250519T142000;WKST=MO
END:VEVENT
BEGIN:VEVENT
DTSTAMP:20260419T221049Z
UID:251479c4-071b-41e2-88e8-ab262183ad66
DTSTART;TZID=Europe/Moscow:20250208T124500
DTEND;TZID=Europe/Moscow:20250208T142000
DESCRIPTION:Ovchinnikova A.O. B23-222
LOCATION:NLK-3.102
SUMMARY:
RRULE:FREQ=WEEKLY;UNTIL=20250329T142000;WKST=MO
EXDATE:20250308T124500
END:VEVENT
BEGIN:VEVENT
DTSTAMP:20260419T221049Z
UID:c5c0b05a-6c09-4dda-a288-d9f3ff69e737
DTSTART;TZID=Europe/Moscow:20250210T143000
DTEND;TZID=Europe/Moscow:20250210T160500
DESCRIPTION:Ovchinnikova A.O. B23-205
LOCATION:NLK-2.20
SUMMARY:
RRULE:FREQ=WEEKLY;UNTIL=20250505T160500;WKST=MO
END:VEVENT
BEGIN:VEVENT
DTSTAMP:20260419T221049Z
UID:77eff230-d5eb-4730-9d18-a0c2d9eea16d
DTSTART;TZID=Europe/Moscow:20250512T143000
DTEND;TZID=Europe/Moscow:20250512T160500
DESCRIPTION:Ovchinnikova A.O. B23-205
LOCATION:NLK-4.89
SUMMARY:
RRULE:FREQ=WEEKLY;UNTIL=20250519T160500;WKST=MO
END:VEVENT
END:VCALENDAR
