BEGIN:VCALENDAR
VERSION:2.0
PRODID:icalendar-ruby
CALSCALE:GREGORIAN
METHOD:PUBLISH
BEGIN:VTIMEZONE
TZID:Europe/Moscow
BEGIN:STANDARD
DTSTART:19700101T000000
TZOFFSETFROM:+0300
TZOFFSETTO:+0300
TZNAME:MSK
END:STANDARD
END:VTIMEZONE
BEGIN:VEVENT
DTSTAMP:20260421T021828Z
UID:b716f118-e830-406c-a441-65cbbd60ab7c
DTSTART;TZID=Europe/Moscow:20250208T083000
DTEND;TZID=Europe/Moscow:20250208T115000
DESCRIPTION:Kalinin E.N.\, Ligidov A.Z. B24-564\, B24-901
LOCATION:A-312
SUMMARY:Physics Workshop
RRULE:FREQ=WEEKLY;UNTIL=20250517T115000;INTERVAL=2;WKST=MO
EXDATE:20250308T083000
END:VEVENT
BEGIN:VEVENT
DTSTAMP:20260421T021828Z
UID:dba92e32-2502-4eb2-8d15-b09e3fd05ca6
DTSTART;TZID=Europe/Moscow:20250208T083000
DTEND;TZID=Europe/Moscow:20250208T115000
DESCRIPTION:Kalinin E.N.\, Ligidov A.Z. B24-563\, S24-501
LOCATION:A-312
SUMMARY:Physics Workshop
RRULE:FREQ=WEEKLY;UNTIL=20250517T115000;INTERVAL=2;WKST=MO
EXDATE:20250308T083000
END:VEVENT
BEGIN:VEVENT
DTSTAMP:20260421T021828Z
UID:155de8de-c668-49e7-8c1b-3ca22e80d48c
DTSTART;TZID=Europe/Moscow:20250215T083000
DTEND;TZID=Europe/Moscow:20250215T115000
DESCRIPTION:Kalinin E.N.\, Ligidov A.Z. B24-521\, B24-565
LOCATION:A-312
SUMMARY:Physics Workshop
RRULE:FREQ=WEEKLY;UNTIL=20250510T115000;INTERVAL=2;WKST=MO
END:VEVENT
BEGIN:VEVENT
DTSTAMP:20260421T021828Z
UID:1e6cab73-4b11-4ad4-a67b-a59443a951f9
DTSTART;TZID=Europe/Moscow:20250215T083000
DTEND;TZID=Europe/Moscow:20250215T115000
DESCRIPTION:Ligidov A.Z.\, Kalinin E.N. B24-516
LOCATION:A-312
SUMMARY:Physics Workshop
RRULE:FREQ=WEEKLY;UNTIL=20250510T115000;INTERVAL=2;WKST=MO
END:VEVENT
BEGIN:VEVENT
DTSTAMP:20260421T021828Z
UID:1be4dd04-2901-4978-afcf-ecba72aaf566
DTSTART;TZID=Europe/Moscow:20250208T124500
DTEND;TZID=Europe/Moscow:20250208T160500
DESCRIPTION:Schurov D.S.\, Ligidov A.Z. B24-504
LOCATION:A-312
SUMMARY:Physics Workshop
RRULE:FREQ=WEEKLY;UNTIL=20250517T160500;INTERVAL=2;WKST=MO
EXDATE:20250308T124500
END:VEVENT
BEGIN:VEVENT
DTSTAMP:20260421T021828Z
UID:f36226e5-2702-4fdc-89e0-e4c1ee0979fe
DTSTART;TZID=Europe/Moscow:20250208T124500
DTEND;TZID=Europe/Moscow:20250208T160500
DESCRIPTION:Schurov D.S.\, Ligidov A.Z. B24-506
LOCATION:A-312
SUMMARY:Physics Workshop
RRULE:FREQ=WEEKLY;UNTIL=20250517T160500;INTERVAL=2;WKST=MO
EXDATE:20250308T124500
END:VEVENT
BEGIN:VEVENT
DTSTAMP:20260421T021828Z
UID:8821db38-dcc8-403f-ad46-0c0a1569b1e9
DTSTART;TZID=Europe/Moscow:20250215T124500
DTEND;TZID=Europe/Moscow:20250215T160500
DESCRIPTION:Schurov D.S.\, Ligidov A.Z. B24-503
LOCATION:A-312
SUMMARY:Physics Workshop
RRULE:FREQ=WEEKLY;UNTIL=20250510T160500;INTERVAL=2;WKST=MO
END:VEVENT
BEGIN:VEVENT
DTSTAMP:20260421T021828Z
UID:6cdb734a-99cd-4e56-8546-47ead836b00b
DTSTART;TZID=Europe/Moscow:20250215T124500
DTEND;TZID=Europe/Moscow:20250215T160500
DESCRIPTION:Ligidov A.Z.\, Schurov D.S. B24-511
LOCATION:A-312
SUMMARY:Physics Workshop
RRULE:FREQ=WEEKLY;UNTIL=20250510T160500;INTERVAL=2;WKST=MO
END:VEVENT
END:VCALENDAR
