BEGIN:VCALENDAR
VERSION:2.0
PRODID:icalendar-ruby
CALSCALE:GREGORIAN
METHOD:PUBLISH
BEGIN:VTIMEZONE
TZID:Europe/Moscow
BEGIN:STANDARD
DTSTART:19700101T000000
TZOFFSETFROM:+0300
TZOFFSETTO:+0300
TZNAME:MSK
END:STANDARD
END:VTIMEZONE
BEGIN:VEVENT
DTSTAMP:20260419T120459Z
UID:0835e739-baeb-4278-8dda-5d0737f80881
DTSTART;TZID=Europe/Moscow:20250208T101500
DTEND;TZID=Europe/Moscow:20250208T115000
DESCRIPTION:Matrosova E.V.\, Romashkova O.N.\, Rostovskiy N.S.\, Guseva
  A.I.\, Drozdova A.A.\, Koptelov M.V. M24-964
SUMMARY:Practical Training (Research Work)
RRULE:FREQ=WEEKLY;UNTIL=20250517T115000;WKST=MO
EXDATE:20250308T101500
END:VEVENT
BEGIN:VEVENT
DTSTAMP:20260419T120459Z
UID:8b5f3396-c6f7-4179-b3da-7cdeb339bfaa
DTSTART;TZID=Europe/Moscow:20250213T143000
DTEND;TZID=Europe/Moscow:20250213T170000
DESCRIPTION:Drozdova A.A.\, Guseva A.I.\, Romashkova O.N. M23-964
SUMMARY:Practical Training (Research Work)
RRULE:FREQ=WEEKLY;UNTIL=20250410T170000;WKST=MO
END:VEVENT
BEGIN:VEVENT
DTSTAMP:20260419T120459Z
UID:cb0a2943-8da7-409f-9eda-abef9b3abff8
DTSTART;TZID=Europe/Moscow:20250211T143000
DTEND;TZID=Europe/Moscow:20250211T170000
DESCRIPTION:Rostovskiy N.S.\, Matrosova E.V.\, Koptelov M.V.\, Drozdova
  A.A.\, Guseva A.I. M24-904
LOCATION:dep.71
SUMMARY:Practical Training (Research Work)
RRULE:FREQ=WEEKLY;UNTIL=20250422T170000;WKST=MO
END:VEVENT
BEGIN:VEVENT
DTSTAMP:20260419T120459Z
UID:afa32d31-336f-461b-9572-ae4546b1248b
DTSTART;TZID=Europe/Moscow:20250211T152000
DTEND;TZID=Europe/Moscow:20250211T170000
DESCRIPTION:Romashkova O.N.\, Guseva A.I.\, Matrosova E.V.\, Koptelov M
 .V.\, Drozdova A.A.\, Rostovskiy N.S. M23-964
SUMMARY:Academic (Research) Practice:
RRULE:FREQ=WEEKLY;UNTIL=20250401T170000;WKST=MO
END:VEVENT
BEGIN:VEVENT
DTSTAMP:20260419T120459Z
UID:8e47d564-ee7c-4b65-8986-c08b2eb37e8f
DTSTART;TZID=Europe/Moscow:20250212T161500
DTEND;TZID=Europe/Moscow:20250212T175000
DESCRIPTION:Guseva A.I.\, Rostovskiy N.S.\, Matrosova E.V.\, Koptelov M
 .V.\, Kireev V.S.\, Drozdova A.A. M23-904
LOCATION:dep.71
SUMMARY:Academic (Research) Practice:
RRULE:FREQ=WEEKLY;UNTIL=20250402T175000;WKST=MO
END:VEVENT
BEGIN:VEVENT
DTSTAMP:20260419T120459Z
UID:191a094a-886b-415b-bd23-03cc88904569
DTSTART;TZID=Europe/Moscow:20250210T175500
DTEND;TZID=Europe/Moscow:20250210T193000
DESCRIPTION:Bochkaryov P.V.\, Drozdova A.A. M24-964
SUMMARY:Information Systems Lifecycle Management (Advanced Level)
RRULE:FREQ=WEEKLY;UNTIL=20250519T193000;WKST=MO
END:VEVENT
BEGIN:VEVENT
DTSTAMP:20260419T120459Z
UID:299f76cc-c250-43c4-ac38-66af3ad199e9
DTSTART;TZID=Europe/Moscow:20250210T184500
DTEND;TZID=Europe/Moscow:20250210T202000
DESCRIPTION:Drozdova A.A.\, Rostovskiy N.S.\, Matrosova E.V.\, Guseva A
 .I.\, Koptelov M.V. M24-V03
LOCATION:dep.71
SUMMARY:Practical Training (Research Work)
RRULE:FREQ=WEEKLY;UNTIL=20250310T202000;WKST=MO
END:VEVENT
BEGIN:VEVENT
DTSTAMP:20260419T120459Z
UID:ae08cc28-eb58-4162-bfc9-1837b4f944b2
DTSTART;TZID=Europe/Moscow:20250211T202500
DTEND;TZID=Europe/Moscow:20250211T220000
DESCRIPTION:Drozdova A.A.\, Bochkaryov P.V. M24-904\, M24-V03
LOCATION:K-1219
SUMMARY:Information Systems Lifecycle Management (Advanced Level)
RRULE:FREQ=WEEKLY;UNTIL=20250520T220000;WKST=MO
END:VEVENT
BEGIN:VEVENT
DTSTAMP:20260419T120459Z
UID:09a83f33-a361-4f49-83d0-8a574a558c7b
DTSTART;TZID=Europe/Moscow:20250317T202500
DTEND;TZID=Europe/Moscow:20250317T220000
DESCRIPTION:Guseva A.I.\, Rostovskiy N.S.\, Koptelov M.V.\, Matrosova E
 .V.\, Drozdova A.A. M24-V03
LOCATION:dep.71
SUMMARY:Practical Training (Research Work)
RRULE:FREQ=WEEKLY;UNTIL=20250519T220000;WKST=MO
END:VEVENT
END:VCALENDAR
