BEGIN:VCALENDAR
VERSION:2.0
PRODID:icalendar-ruby
CALSCALE:GREGORIAN
METHOD:PUBLISH
BEGIN:VTIMEZONE
TZID:Europe/Moscow
BEGIN:STANDARD
DTSTART:19700101T000000
TZOFFSETFROM:+0300
TZOFFSETTO:+0300
TZNAME:MSK
END:STANDARD
END:VTIMEZONE
BEGIN:VEVENT
DTSTAMP:20260419T120459Z
UID:93dca8c5-906d-4e0e-9f68-fc6b5ee0a07d
DTSTART;TZID=Europe/Moscow:20250212T161500
DTEND;TZID=Europe/Moscow:20250212T175000
DESCRIPTION:Matyushechkin D.S.\, Kazanbekov S.B.\, Ignatov D.V. M24-601\
 , M24-605
LOCATION:VNIIA
SUMMARY:Computer Technology
RRULE:FREQ=WEEKLY;UNTIL=20250521T175000;INTERVAL=2;WKST=MO
END:VEVENT
END:VCALENDAR
