BEGIN:VCALENDAR
VERSION:2.0
PRODID:icalendar-ruby
CALSCALE:GREGORIAN
METHOD:PUBLISH
BEGIN:VTIMEZONE
TZID:Europe/Moscow
BEGIN:STANDARD
DTSTART:19700101T000000
TZOFFSETFROM:+0300
TZOFFSETTO:+0300
TZNAME:MSK
END:STANDARD
END:VTIMEZONE
BEGIN:VEVENT
DTSTAMP:20260419T150456Z
UID:79633dcd-6c0b-4f67-bf9d-30809a524815
DTSTART;TZID=Europe/Moscow:20250207T161500
DTEND;TZID=Europe/Moscow:20250207T175000
DESCRIPTION:Komarkov D.E. M24-507
LOCATION:NLK-3.3
SUMMARY:Data Analysis and Machine Learning
RRULE:FREQ=WEEKLY;UNTIL=20250516T175000;INTERVAL=2;WKST=MO
END:VEVENT
BEGIN:VEVENT
DTSTAMP:20260419T150456Z
UID:8f05f27c-d350-422c-9280-aad468460900
DTSTART;TZID=Europe/Moscow:20250214T161500
DTEND;TZID=Europe/Moscow:20250214T175000
DESCRIPTION:Komarkov D.E. M24-507
LOCATION:V-103
SUMMARY:Data Analysis and Machine Learning
RRULE:FREQ=WEEKLY;UNTIL=20250509T175000;INTERVAL=2;WKST=MO
EXDATE:20250509T161500
END:VEVENT
END:VCALENDAR
