BEGIN:VCALENDAR
VERSION:2.0
PRODID:icalendar-ruby
CALSCALE:GREGORIAN
METHOD:PUBLISH
BEGIN:VTIMEZONE
TZID:Europe/Moscow
BEGIN:STANDARD
DTSTART:19700101T000000
TZOFFSETFROM:+0300
TZOFFSETTO:+0300
TZNAME:MSK
END:STANDARD
END:VTIMEZONE
BEGIN:VEVENT
DTSTAMP:20260420T012229Z
UID:92bbc453-5d71-4e7a-b16b-11f8c0d8e5a8
DTSTART;TZID=Europe/Moscow:20250219T115500
DTEND;TZID=Europe/Moscow:20250219T133000
DESCRIPTION:Zubakov A.V. M24-406
LOCATION:V-315
SUMMARY:Computer technologies: computer-aided design of integrated circuits
RRULE:FREQ=WEEKLY;UNTIL=20250514T133000;INTERVAL=2;WKST=MO
END:VEVENT
END:VCALENDAR
