BEGIN:VCALENDAR
VERSION:2.0
PRODID:icalendar-ruby
CALSCALE:GREGORIAN
METHOD:PUBLISH
BEGIN:VTIMEZONE
TZID:Europe/Moscow
BEGIN:STANDARD
DTSTART:19700101T000000
TZOFFSETFROM:+0300
TZOFFSETTO:+0300
TZNAME:MSK
END:STANDARD
END:VTIMEZONE
BEGIN:VEVENT
DTSTAMP:20260419T165410Z
UID:b4d6342f-7b91-4823-9e80-7339f5dd5536
DTSTART;TZID=Europe/Moscow:20250207T110500
DTEND;TZID=Europe/Moscow:20250207T124000
DESCRIPTION:Kuznetsov A.V. B21-413
LOCATION:K-1117
SUMMARY:Condensed Matter Physics
RRULE:FREQ=WEEKLY;UNTIL=20250425T124000;WKST=MO
END:VEVENT
BEGIN:VEVENT
DTSTAMP:20260419T165410Z
UID:6b2ff6d1-64b1-4c49-9b1d-147b7870ac02
DTSTART;TZID=Europe/Moscow:20250208T115500
DTEND;TZID=Europe/Moscow:20250208T133000
DESCRIPTION:Kuznetsov A.V. B22-211
LOCATION:E-204
SUMMARY:Condensed-matter physics (part 1)
RRULE:FREQ=WEEKLY;UNTIL=20250517T133000;WKST=MO
EXDATE:20250308T115500
END:VEVENT
BEGIN:VEVENT
DTSTAMP:20260419T165410Z
UID:c08f215d-99c9-418c-b509-1034072ab60f
DTSTART;TZID=Europe/Moscow:20250213T143000
DTEND;TZID=Europe/Moscow:20250213T160500
DESCRIPTION:Kuznetsov A.V. M24-303\, M24-304
LOCATION:V-119
SUMMARY:Latex Basics
RRULE:FREQ=WEEKLY;UNTIL=20250417T160500;WKST=MO
END:VEVENT
BEGIN:VEVENT
DTSTAMP:20260419T165411Z
UID:12cf6f53-375a-4ed3-955a-c35886b09776
DTSTART;TZID=Europe/Moscow:20250210T143000
DTEND;TZID=Europe/Moscow:20250210T160500
DESCRIPTION:Kuznetsov A.V. B21-211
LOCATION:E-204
SUMMARY:Condensed Matter Physics (part 3)
RRULE:FREQ=WEEKLY;UNTIL=20250421T160500;WKST=MO
END:VEVENT
END:VCALENDAR
