BEGIN:VCALENDAR
VERSION:2.0
PRODID:icalendar-ruby
CALSCALE:GREGORIAN
METHOD:PUBLISH
BEGIN:VTIMEZONE
TZID:Europe/Moscow
BEGIN:STANDARD
DTSTART:19700101T000000
TZOFFSETFROM:+0300
TZOFFSETTO:+0300
TZNAME:MSK
END:STANDARD
END:VTIMEZONE
BEGIN:VEVENT
DTSTAMP:20260419T120454Z
UID:25f106f5-481f-45d9-af0a-c3221f7c53bf
DTSTART;TZID=Europe/Moscow:20250212T101500
DTEND;TZID=Europe/Moscow:20250212T115000
DESCRIPTION:Velichanskiy V.L. M24-203
LOCATION:K-1102
SUMMARY:Laser Spectroscopy and Cooling of Atoms
RRULE:FREQ=WEEKLY;UNTIL=20250521T115000;INTERVAL=2;WKST=MO
END:VEVENT
BEGIN:VEVENT
DTSTAMP:20260419T120454Z
UID:554e3942-f27a-4d44-80bb-9e1ce20d00a9
DTSTART;TZID=Europe/Moscow:20250208T101500
DTEND;TZID=Europe/Moscow:20250208T115000
DESCRIPTION:Velichanskiy V.L. M24-209
LOCATION:NLK-4.41
SUMMARY:Laser Cooling of Quantum Particles
RRULE:FREQ=WEEKLY;UNTIL=20250517T115000;INTERVAL=2;WKST=MO
EXDATE:20250308T101500
END:VEVENT
BEGIN:VEVENT
DTSTAMP:20260419T120454Z
UID:c0f4825b-ae20-4e6d-aed5-cd44ce1e02a7
DTSTART;TZID=Europe/Moscow:20250219T101500
DTEND;TZID=Europe/Moscow:20250219T115000
DESCRIPTION:Velichanskiy V.L. M24-203
LOCATION:K-1102
SUMMARY:Laser Spectroscopy and Cooling of Atoms
RRULE:FREQ=WEEKLY;UNTIL=20250514T115000;INTERVAL=2;WKST=MO
END:VEVENT
BEGIN:VEVENT
DTSTAMP:20260419T120454Z
UID:8037d000-24da-44c6-8247-85f7dcd9ee01
DTSTART;TZID=Europe/Moscow:20250208T115500
DTEND;TZID=Europe/Moscow:20250208T133000
DESCRIPTION:Velichanskiy V.L. M24-209
LOCATION:NLK-4.41
SUMMARY:Laser Cooling of Quantum Particles
RRULE:FREQ=WEEKLY;UNTIL=20250517T133000;INTERVAL=2;WKST=MO
EXDATE:20250308T115500
END:VEVENT
END:VCALENDAR
