BEGIN:VCALENDAR
VERSION:2.0
PRODID:icalendar-ruby
CALSCALE:GREGORIAN
METHOD:PUBLISH
BEGIN:VTIMEZONE
TZID:Europe/Moscow
BEGIN:STANDARD
DTSTART:19700101T000000
TZOFFSETFROM:+0300
TZOFFSETTO:+0300
TZNAME:MSK
END:STANDARD
END:VTIMEZONE
BEGIN:VEVENT
DTSTAMP:20260419T221101Z
UID:30f6a626-4977-4429-af21-78b1a1cedcc0
DTSTART;TZID=Europe/Moscow:20250212T101500
DTEND;TZID=Europe/Moscow:20250212T151500
DESCRIPTION:Kurashvili Y.B.\, Belyaev V.N.\, Shtotskiy Y.V.\, Lebedenko
  I.M.\, Blinov N.N.\, Gromushkina E.V.\, Dubov L.Y.\, Zaharkiv A.Y. M
 23-301\, M23-311
LOCATION:dep.35
SUMMARY:Practical Training (Research Work)
RRULE:FREQ=WEEKLY;UNTIL=20250312T151500;WKST=MO
END:VEVENT
BEGIN:VEVENT
DTSTAMP:20260419T221101Z
UID:54269351-6f0a-4813-a79b-2b22486bdd43
DTSTART;TZID=Europe/Moscow:20250211T101500
DTEND;TZID=Europe/Moscow:20250211T115000
DESCRIPTION:Shtotskiy Y.V.\, Lebedenko I.M.\, Kurashvili Y.B.\, Zaharkiv
  A.Y.\, Dubov L.Y.\, Gromushkina E.V.\, Blinov N.N.\, Belyaev V.N. M2
 4-301
LOCATION:dep.35
SUMMARY:Practical Training (Research Work)
RRULE:FREQ=WEEKLY;UNTIL=20250520T115000;WKST=MO
END:VEVENT
BEGIN:VEVENT
DTSTAMP:20260419T221101Z
UID:9ae3da5e-e2fd-4807-8864-1b3981838dd1
DTSTART;TZID=Europe/Moscow:20250207T101500
DTEND;TZID=Europe/Moscow:20250207T124000
DESCRIPTION:Shtotskiy Y.V. B21-301\, B22-300\, B22-381
LOCATION:64-308
SUMMARY:X-ray computed tomography
RRULE:FREQ=WEEKLY;UNTIL=20250228T124000;WKST=MO
END:VEVENT
BEGIN:VEVENT
DTSTAMP:20260419T221101Z
UID:138a0945-7cac-416c-b100-84b1d1c276a4
DTSTART;TZID=Europe/Moscow:20250207T101500
DTEND;TZID=Europe/Moscow:20250207T115000
DESCRIPTION:Dubov L.Y.\, Shtotskiy Y.V.\, Zaharkiv A.Y.\, Ermilov S.S. 
 B24-361
LOCATION:dep.35
SUMMARY:Practicum Project
RRULE:FREQ=WEEKLY;UNTIL=20250516T115000;INTERVAL=2;WKST=MO
END:VEVENT
BEGIN:VEVENT
DTSTAMP:20260419T221101Z
UID:a102e65c-e39f-463c-95d2-ffd5dc165482
DTSTART;TZID=Europe/Moscow:20250214T101500
DTEND;TZID=Europe/Moscow:20250214T115000
DESCRIPTION:Shtotskiy Y.V.\, Polyakov E.V.\, Zaharkiv A.Y.\, Ermilov S.
 S.\, Dubov L.Y. B24-301
LOCATION:dep.35
SUMMARY:Practicum Project
RRULE:FREQ=WEEKLY;UNTIL=20250509T115000;INTERVAL=2;WKST=MO
EXDATE:20250509T101500
END:VEVENT
BEGIN:VEVENT
DTSTAMP:20260419T221101Z
UID:b209d9df-e4f2-4ed7-b660-2e2396efe3d1
DTSTART;TZID=Europe/Moscow:20250211T124500
DTEND;TZID=Europe/Moscow:20250211T151500
DESCRIPTION:Belyaev V.N.\, Shtotskiy Y.V.\, Lebedenko I.M.\, Kurashvili
  Y.B.\, Zaharkiv A.Y.\, Dubov L.Y.\, Gromushkina E.V.\, Blinov N.N. B
 21-301
LOCATION:dep.35
SUMMARY:
RRULE:FREQ=WEEKLY;UNTIL=20250429T151500;WKST=MO
END:VEVENT
BEGIN:VEVENT
DTSTAMP:20260419T221101Z
UID:4d6933b2-465d-411a-8cd1-5fe852c61361
DTSTART;TZID=Europe/Moscow:20250210T124500
DTEND;TZID=Europe/Moscow:20250210T142000
DESCRIPTION:Polyakov E.V.\, Zaharkiv A.Y.\, Ermilov S.S.\, Dubov L.Y.\,
  Shtotskiy Y.V. B23-301\, B23-361
LOCATION:dep.35
SUMMARY:Practicum Project
RRULE:FREQ=WEEKLY;UNTIL=20250519T142000;INTERVAL=2;WKST=MO
END:VEVENT
BEGIN:VEVENT
DTSTAMP:20260419T221101Z
UID:9a2c0044-ef97-45f7-b59c-ee9c4885c399
DTSTART;TZID=Europe/Moscow:20250207T133500
DTEND;TZID=Europe/Moscow:20250207T160500
DESCRIPTION:Shtotskiy Y.V. B21-301\, B21-311\, B22-300
LOCATION:64-308
SUMMARY:Medical Devices and Radiation Detectors
RRULE:FREQ=WEEKLY;UNTIL=20250314T160500;WKST=MO
END:VEVENT
BEGIN:VEVENT
DTSTAMP:20260419T221101Z
UID:014d2f6d-bf78-40d9-95a4-b7c39302bb7e
DTSTART;TZID=Europe/Moscow:20250211T143000
DTEND;TZID=Europe/Moscow:20250211T160500
DESCRIPTION:Shtotskiy Y.V.\, Blinov N.N.\, Gromushkina E.V.\, Dubov L.Y
 .\, Zaharkiv A.Y.\, Kurashvili Y.B.\, Lebedenko I.M.\, Belyaev V.N. M2
 4-311
LOCATION:dep.35
SUMMARY:Practical Training (Research Work)
RRULE:FREQ=WEEKLY;UNTIL=20250520T160500;WKST=MO
END:VEVENT
BEGIN:VEVENT
DTSTAMP:20260419T221101Z
UID:dbc93435-076b-4ec6-80d4-bb7239f8fdd7
DTSTART;TZID=Europe/Moscow:20250307T101500
DTEND;TZID=Europe/Moscow:20250307T124000
DESCRIPTION:Shtotskiy Y.V. B21-301\, B22-300\, B22-381
LOCATION:64-308
SUMMARY:X-ray computed tomography
RRULE:FREQ=WEEKLY;UNTIL=20250425T124000;WKST=MO
END:VEVENT
BEGIN:VEVENT
DTSTAMP:20260419T221101Z
UID:7c45356f-1cf5-4522-ba46-e2530023e88c
DTSTART;TZID=Europe/Moscow:20250321T133500
DTEND;TZID=Europe/Moscow:20250321T160500
DESCRIPTION:Shtotskiy Y.V. B21-301\, B21-311\, B22-300
LOCATION:64-308
SUMMARY:Medical Devices and Radiation Detectors
RRULE:FREQ=WEEKLY;UNTIL=20250425T160500;WKST=MO
END:VEVENT
END:VCALENDAR
