BEGIN:VCALENDAR
VERSION:2.0
PRODID:icalendar-ruby
CALSCALE:GREGORIAN
METHOD:PUBLISH
BEGIN:VTIMEZONE
TZID:Europe/Moscow
BEGIN:STANDARD
DTSTART:19700101T000000
TZOFFSETFROM:+0300
TZOFFSETTO:+0300
TZNAME:MSK
END:STANDARD
END:VTIMEZONE
BEGIN:VEVENT
DTSTAMP:20260419T120541Z
UID:a3d8f882-2308-46dd-b5d4-3025a9a0b5f1
DTSTART;TZID=Europe/Moscow:20250213T083000
DTEND;TZID=Europe/Moscow:20250213T100500
DESCRIPTION:Maksimenko V.V. B24-301\, B24-311\, B24-413
LOCATION:T-101
SUMMARY:Subgroup 2
RRULE:FREQ=WEEKLY;UNTIL=20250522T100500;WKST=MO
EXDATE:20250501T083000
EXDATE:20250508T083000
END:VEVENT
BEGIN:VEVENT
DTSTAMP:20260419T120541Z
UID:27d30569-fafa-497c-9039-6a08317be151
DTSTART;TZID=Europe/Moscow:20250211T083000
DTEND;TZID=Europe/Moscow:20250211T100500
DESCRIPTION:Maksimenko V.V. B24-301\, B24-311\, B24-413
LOCATION:NLK-4.57
SUMMARY:Subgroup 2
RRULE:FREQ=WEEKLY;UNTIL=20250520T100500;WKST=MO
END:VEVENT
BEGIN:VEVENT
DTSTAMP:20260419T120541Z
UID:65769ea7-7e1b-48d2-a753-4ec210e0c6d8
DTSTART;TZID=Europe/Moscow:20250210T083000
DTEND;TZID=Europe/Moscow:20250210T100500
DESCRIPTION:Maksimenko V.V. B24-101\, B24-102\, B24-103\, B24-104\, B24-10
 5\, B24-106\, B24-107\, B24-201\, B24-202\, B24-203\, B24-204\, B24-205\, 
 B24-207\, B24-211\, B24-212\, B24-215\, B24-221\, B24-301\, B24-302\, B24-
 311\, B24-401\, B24-402\, B24-403\, B24-413\, B24-433\, B24-601\, B24-602\
 , B24-603\, B24-604\, B24-611
LOCATION:A-100
SUMMARY:
RRULE:FREQ=WEEKLY;UNTIL=20250519T100500;WKST=MO
END:VEVENT
BEGIN:VEVENT
DTSTAMP:20260419T120541Z
UID:75c5062d-ca29-4681-95f9-e63ce24db1fe
DTSTART;TZID=Europe/Moscow:20250213T101500
DTEND;TZID=Europe/Moscow:20250213T115000
DESCRIPTION:Maksimenko V.V. B24-601\, B24-602
LOCATION:T-101
SUMMARY:Subgroup 1
RRULE:FREQ=WEEKLY;UNTIL=20250522T115000;WKST=MO
EXDATE:20250501T101500
EXDATE:20250508T101500
END:VEVENT
BEGIN:VEVENT
DTSTAMP:20260419T120541Z
UID:5dd2d7cb-c7b7-4f5e-b09f-1d27b38ad3ad
DTSTART;TZID=Europe/Moscow:20250211T101500
DTEND;TZID=Europe/Moscow:20250211T115000
DESCRIPTION:Maksimenko V.V. B24-101\, B24-103\, B24-106
LOCATION:NLK-4.57
SUMMARY:
RRULE:FREQ=WEEKLY;UNTIL=20250520T115000;WKST=MO
END:VEVENT
BEGIN:VEVENT
DTSTAMP:20260419T120541Z
UID:8b80e796-bcd7-422d-a864-2be6ac8b7fcf
DTSTART;TZID=Europe/Moscow:20250211T115500
DTEND;TZID=Europe/Moscow:20250211T133000
DESCRIPTION:Maksimenko V.V. B24-601\, B24-602
LOCATION:NLK-4.57
SUMMARY:Subgroup 1
RRULE:FREQ=WEEKLY;UNTIL=20250520T133000;WKST=MO
END:VEVENT
BEGIN:VEVENT
DTSTAMP:20260419T120541Z
UID:ab765115-2fc1-40e0-9587-fa1c621c207d
DTSTART;TZID=Europe/Moscow:20250213T115500
DTEND;TZID=Europe/Moscow:20250213T133000
DESCRIPTION:Maksimenko V.V. B24-101\, B24-103\, B24-106
LOCATION:T-101
SUMMARY:
RRULE:FREQ=WEEKLY;UNTIL=20250522T133000;WKST=MO
EXDATE:20250501T115500
EXDATE:20250508T115500
END:VEVENT
BEGIN:VEVENT
DTSTAMP:20260419T120541Z
UID:e3a5c2a6-0460-48d8-8523-b44f3049105a
DTSTART;TZID=Europe/Moscow:20250210T124500
DTEND;TZID=Europe/Moscow:20250210T160500
DESCRIPTION:Maksimenko V.V.\, Zagaynov V.A. S23-602
LOCATION:A-301
SUMMARY:General Physics (Waves and Optics)
RRULE:FREQ=WEEKLY;UNTIL=20250519T160500;INTERVAL=2;WKST=MO
END:VEVENT
BEGIN:VEVENT
DTSTAMP:20260419T120541Z
UID:48dd0759-4278-410e-81ed-733630976131
DTSTART;TZID=Europe/Moscow:20250217T124500
DTEND;TZID=Europe/Moscow:20250217T160500
DESCRIPTION:Zagaynov V.A.\, Maksimenko V.V. B23-301\, B23-361
LOCATION:A-301
SUMMARY:
RRULE:FREQ=WEEKLY;UNTIL=20250512T160500;INTERVAL=2;WKST=MO
END:VEVENT
END:VCALENDAR
