BEGIN:VCALENDAR
VERSION:2.0
PRODID:icalendar-ruby
CALSCALE:GREGORIAN
METHOD:PUBLISH
BEGIN:VTIMEZONE
TZID:Europe/Moscow
BEGIN:STANDARD
DTSTART:19700101T000000
TZOFFSETFROM:+0300
TZOFFSETTO:+0300
TZNAME:MSK
END:STANDARD
END:VTIMEZONE
BEGIN:VEVENT
DTSTAMP:20260420T012203Z
UID:afec53cd-da2f-4237-a80e-46e15a2f787e
DTSTART;TZID=Europe/Moscow:20250213T083000
DTEND;TZID=Europe/Moscow:20250213T100500
DESCRIPTION:Dvurechenskaya T.A. B23-501\, B23-504\, B23-511\, B23-514\, B2
 3-524\, B23-534\, B23-544\, B23-554
LOCATION:402
SUMMARY:Philosophy
RRULE:FREQ=WEEKLY;UNTIL=20250501T100500;WKST=MO
EXDATE:20250501T083000
END:VEVENT
BEGIN:VEVENT
DTSTAMP:20260420T012203Z
UID:125128e2-d603-4b54-9b51-b33f5d8d1b54
DTSTART;TZID=Europe/Moscow:20250212T101500
DTEND;TZID=Europe/Moscow:20250212T115000
DESCRIPTION:Dvurechenskaya T.A. B23-544
LOCATION:K-211
SUMMARY:Philosophy
RRULE:FREQ=WEEKLY;UNTIL=20250430T115000;WKST=MO
END:VEVENT
BEGIN:VEVENT
DTSTAMP:20260420T012203Z
UID:7c3a40a8-2351-422a-ad89-603fd902fead
DTSTART;TZID=Europe/Moscow:20250212T124500
DTEND;TZID=Europe/Moscow:20250212T142000
DESCRIPTION:Dvurechenskaya T.A. B23-554
LOCATION:B-219
SUMMARY:Philosophy
RRULE:FREQ=WEEKLY;UNTIL=20250430T142000;WKST=MO
END:VEVENT
BEGIN:VEVENT
DTSTAMP:20260420T012203Z
UID:7c326028-eb87-4600-a6c3-fcfb404f9be5
DTSTART;TZID=Europe/Moscow:20250211T124500
DTEND;TZID=Europe/Moscow:20250211T142000
DESCRIPTION:Dvurechenskaya T.A. B23-534
LOCATION:B-216
SUMMARY:Philosophy
RRULE:FREQ=WEEKLY;UNTIL=20250429T142000;WKST=MO
END:VEVENT
BEGIN:VEVENT
DTSTAMP:20260420T012203Z
UID:d7af72c1-5428-47f7-968e-0dbf93f84628
DTSTART;TZID=Europe/Moscow:20250213T124500
DTEND;TZID=Europe/Moscow:20250213T142000
DESCRIPTION:Dvurechenskaya T.A. B23-514
LOCATION:K-302
SUMMARY:Philosophy
RRULE:FREQ=WEEKLY;UNTIL=20250501T142000;WKST=MO
EXDATE:20250501T124500
END:VEVENT
BEGIN:VEVENT
DTSTAMP:20260420T012203Z
UID:26db8c9b-a78e-48c0-9798-6fab90c9f351
DTSTART;TZID=Europe/Moscow:20250211T143000
DTEND;TZID=Europe/Moscow:20250211T160500
DESCRIPTION:Dvurechenskaya T.A. A24-101\, A24-104\, A24-105
LOCATION:V-403
SUMMARY:History and Philosophy of Science
RRULE:FREQ=WEEKLY;UNTIL=20250603T160500;WKST=MO
END:VEVENT
BEGIN:VEVENT
DTSTAMP:20260420T012203Z
UID:3b876a66-522c-4646-ace2-4f2574853037
DTSTART;TZID=Europe/Moscow:20250213T143000
DTEND;TZID=Europe/Moscow:20250213T160500
DESCRIPTION:Dvurechenskaya T.A. B23-524
LOCATION:K-305
SUMMARY:Philosophy
RRULE:FREQ=WEEKLY;UNTIL=20250501T160500;WKST=MO
EXDATE:20250501T143000
END:VEVENT
END:VCALENDAR
