BEGIN:VCALENDAR
VERSION:2.0
PRODID:icalendar-ruby
CALSCALE:GREGORIAN
METHOD:PUBLISH
BEGIN:VTIMEZONE
TZID:Europe/Moscow
BEGIN:STANDARD
DTSTART:19700101T000000
TZOFFSETFROM:+0300
TZOFFSETTO:+0300
TZNAME:MSK
END:STANDARD
END:VTIMEZONE
BEGIN:VEVENT
DTSTAMP:20260419T120511Z
UID:5b9bd4d0-a5c6-4316-9284-b344e2a22767
DTSTART;TZID=Europe/Moscow:20160902T184500
DTEND;TZID=Europe/Moscow:20160902T202000
DESCRIPTION:Tihomirov G.V.\, Kuzmin A.M. M16-905
LOCATION:E-409A
SUMMARY:Nuclear Physics and Reactors
RRULE:FREQ=WEEKLY;UNTIL=20161021T202000;WKST=MO
END:VEVENT
BEGIN:VEVENT
DTSTAMP:20260419T120511Z
UID:0e8392ba-b26d-4d58-bedc-1df6e42608db
DTSTART;TZID=Europe/Moscow:20160902T202500
DTEND;TZID=Europe/Moscow:20160902T220000
DESCRIPTION:Tihomirov G.V.\, Kuzmin A.M. M16-905
LOCATION:E-409A
SUMMARY:Nuclear Physics and Reactors
RRULE:FREQ=WEEKLY;UNTIL=20161216T220000;WKST=MO
EXDATE:20161104T202500
END:VEVENT
BEGIN:VEVENT
DTSTAMP:20260419T120511Z
UID:1ccb2dfa-fa9b-4440-849d-6b1cc96618e7
DTSTART;TZID=Europe/Moscow:20161028T184500
DTEND;TZID=Europe/Moscow:20161028T202000
DESCRIPTION:Tihomirov G.V.\, Kuzmin A.M. M16-905
LOCATION:E-409A
SUMMARY:Nuclear Physics and Reactors
RRULE:FREQ=WEEKLY;UNTIL=20161216T202000;WKST=MO
EXDATE:20161104T184500
END:VEVENT
END:VCALENDAR
