BEGIN:VCALENDAR
VERSION:2.0
PRODID:icalendar-ruby
CALSCALE:GREGORIAN
METHOD:PUBLISH
BEGIN:VTIMEZONE
TZID:Europe/Moscow
BEGIN:STANDARD
DTSTART:19700101T000000
TZOFFSETFROM:+0300
TZOFFSETTO:+0300
TZNAME:MSK
END:STANDARD
END:VTIMEZONE
BEGIN:VEVENT
DTSTAMP:20260419T120506Z
UID:d4377fae-0129-4882-97cb-d309b10f93ef
DTSTART;TZID=Europe/Moscow:20160903T083000
DTEND;TZID=Europe/Moscow:20160903T100500
DESCRIPTION:Urin M.G. S14-405
LOCATION:K-411
SUMMARY:Theoretical Physics: Quantum Mechanics
RRULE:FREQ=WEEKLY;UNTIL=20161217T100500;WKST=MO
END:VEVENT
BEGIN:VEVENT
DTSTAMP:20260419T120506Z
UID:64b0bfc8-e00b-4f1e-b64b-26bfee67f7b3
DTSTART;TZID=Europe/Moscow:20160903T101500
DTEND;TZID=Europe/Moscow:20160903T115000
DESCRIPTION:Urin M.G. S14-405
LOCATION:K-411
SUMMARY:Theoretical Physics: Quantum Mechanics
RRULE:FREQ=WEEKLY;UNTIL=20161217T115000;WKST=MO
END:VEVENT
END:VCALENDAR
