BEGIN:VCALENDAR
VERSION:2.0
PRODID:icalendar-ruby
CALSCALE:GREGORIAN
METHOD:PUBLISH
BEGIN:VTIMEZONE
TZID:Europe/Moscow
BEGIN:STANDARD
DTSTART:19700101T000000
TZOFFSETFROM:+0300
TZOFFSETTO:+0300
TZNAME:MSK
END:STANDARD
END:VTIMEZONE
BEGIN:VEVENT
DTSTAMP:20260419T120538Z
UID:8469326c-fe7c-4ff9-bfc0-809657f71aa0
DTSTART;TZID=Europe/Moscow:20160905T083000
DTEND;TZID=Europe/Moscow:20160905T100500
DESCRIPTION:Kostyuhina A.V. M15-002
LOCATION:I-214
SUMMARY:Material Physical Property Modeling on WWER (Water-Water Energetic 
 Reactor ) 
RRULE:FREQ=WEEKLY;UNTIL=20161212T100500;INTERVAL=2;WKST=MO
END:VEVENT
BEGIN:VEVENT
DTSTAMP:20260419T120538Z
UID:ed9d3f80-ef33-417d-8efe-15ac4e84234f
DTSTART;TZID=Europe/Moscow:20160912T083000
DTEND;TZID=Europe/Moscow:20160912T100500
DESCRIPTION:Kostyuhina A.V. M15-002
LOCATION:I-214
SUMMARY:Material Physical Property Modeling on WWER (Water-Water Energetic 
 Reactor ) 
RRULE:FREQ=WEEKLY;UNTIL=20161219T100500;INTERVAL=2;WKST=MO
END:VEVENT
BEGIN:VEVENT
DTSTAMP:20260419T120538Z
UID:32a2dba0-f570-4ac8-8792-9b5e6a0cf588
DTSTART;TZID=Europe/Moscow:20160902T101500
DTEND;TZID=Europe/Moscow:20160902T115000
DESCRIPTION:Kostyuhina A.V. M15-002
LOCATION:dep.16
SUMMARY:Material Physical Property Modeling on WWER (Water-Water Energetic 
 Reactor ) 
RRULE:FREQ=WEEKLY;UNTIL=20161216T115000;WKST=MO
EXDATE:20161104T101500
END:VEVENT
END:VCALENDAR
