BEGIN:VCALENDAR
VERSION:2.0
PRODID:icalendar-ruby
CALSCALE:GREGORIAN
METHOD:PUBLISH
BEGIN:VTIMEZONE
TZID:Europe/Moscow
BEGIN:STANDARD
DTSTART:19700101T000000
TZOFFSETFROM:+0300
TZOFFSETTO:+0300
TZNAME:MSK
END:STANDARD
END:VTIMEZONE
BEGIN:VEVENT
DTSTAMP:20260419T195706Z
UID:6ad68fd4-66a8-4dc3-bc17-887113ba7680
DTSTART;TZID=Europe/Moscow:20160902T101500
DTEND;TZID=Europe/Moscow:20160902T115000
DESCRIPTION:Slobodchuk V.I.\, Kramer-Ageev E.A. S12-104
LOCATION:E-212
SUMMARY:Radiation Safety: Equipment Control
RRULE:FREQ=WEEKLY;UNTIL=20161209T115000;INTERVAL=2;WKST=MO
END:VEVENT
BEGIN:VEVENT
DTSTAMP:20260419T195706Z
UID:c2c8ec71-f689-4307-83a4-269665064c87
DTSTART;TZID=Europe/Moscow:20160909T101500
DTEND;TZID=Europe/Moscow:20160909T115000
DESCRIPTION:Kramer-Ageev E.A.\, Slobodchuk V.I. S12-104
LOCATION:E-212
SUMMARY:Radiation Safety: Equipment Control
RRULE:FREQ=WEEKLY;UNTIL=20161216T115000;INTERVAL=2;WKST=MO
EXDATE:20161104T101500
END:VEVENT
BEGIN:VEVENT
DTSTAMP:20260419T195706Z
UID:6e4c8058-c98f-4f16-a0ab-873f5eadbb24
DTSTART;TZID=Europe/Moscow:20161022T083000
DTEND;TZID=Europe/Moscow:20161022T115000
DESCRIPTION:Slobodchuk V.I. M15-681
LOCATION:IATE\, Obninsk
SUMMARY:Nuclear Power Plants
END:VEVENT
BEGIN:VEVENT
DTSTAMP:20260419T195706Z
UID:6a71418f-68eb-4c58-8df2-27fa2eb7a0ad
DTSTART;TZID=Europe/Moscow:20161022T115500
DTEND;TZID=Europe/Moscow:20161022T202000
DESCRIPTION:Slobodchuk V.I. M15-681
LOCATION:IATE\, Obninsk
SUMMARY:Nuclear Power Plants
END:VEVENT
BEGIN:VEVENT
DTSTAMP:20260419T195706Z
UID:841bd735-779c-4227-b74b-21d523b51429
DTSTART;TZID=Europe/Moscow:20161023T083000
DTEND;TZID=Europe/Moscow:20161023T115000
DESCRIPTION:Slobodchuk V.I. M15-681
LOCATION:IATE\, Obninsk
SUMMARY:Nuclear Power Plants
END:VEVENT
BEGIN:VEVENT
DTSTAMP:20260419T195706Z
UID:dfab43f0-dd3e-4094-9408-acc2db26ef3c
DTSTART;TZID=Europe/Moscow:20161023T115500
DTEND;TZID=Europe/Moscow:20161023T202000
DESCRIPTION:Slobodchuk V.I. M15-681
LOCATION:IATE\, Obninsk
SUMMARY:Nuclear Power Plants
END:VEVENT
END:VCALENDAR
