BEGIN:VCALENDAR
VERSION:2.0
PRODID:icalendar-ruby
CALSCALE:GREGORIAN
METHOD:PUBLISH
BEGIN:VTIMEZONE
TZID:Europe/Moscow
BEGIN:STANDARD
DTSTART:19700101T000000
TZOFFSETFROM:+0300
TZOFFSETTO:+0300
TZNAME:MSK
END:STANDARD
END:VTIMEZONE
BEGIN:VEVENT
DTSTAMP:20260419T195654Z
UID:c13ab3a5-3b4f-4c72-ad2b-3d703afbc7ac
DTSTART;TZID=Europe/Moscow:20160906T124500
DTEND;TZID=Europe/Moscow:20160906T142000
DESCRIPTION:Vygovskiy S.B. S12-103
LOCATION:I-205
SUMMARY:Management and Safe Operation of NPPs
RRULE:FREQ=WEEKLY;UNTIL=20161220T142000;WKST=MO
END:VEVENT
BEGIN:VEVENT
DTSTAMP:20260419T195654Z
UID:2c132b84-184a-4a11-bbf1-f8f07e83c545
DTSTART;TZID=Europe/Moscow:20160908T143000
DTEND;TZID=Europe/Moscow:20160908T160500
DESCRIPTION:Vygovskiy S.B. S12-103
LOCATION:dep.2
SUMMARY:Management and Safe Operation of NPPs
RRULE:FREQ=WEEKLY;UNTIL=20161215T160500;INTERVAL=2;WKST=MO
END:VEVENT
END:VCALENDAR
