BEGIN:VCALENDAR
VERSION:2.0
PRODID:icalendar-ruby
CALSCALE:GREGORIAN
METHOD:PUBLISH
BEGIN:VTIMEZONE
TZID:Europe/Moscow
BEGIN:STANDARD
DTSTART:19700101T000000
TZOFFSETFROM:+0300
TZOFFSETTO:+0300
TZNAME:MSK
END:STANDARD
END:VTIMEZONE
BEGIN:VEVENT
DTSTAMP:20260419T170352Z
UID:ad5b664a-1130-4d33-b365-0dd9646bfa85
DTSTART;TZID=Europe/Moscow:20160903T101500
DTEND;TZID=Europe/Moscow:20160903T115000
DESCRIPTION:Trofimov A.I.\, Miheev V.P. S13-103
LOCATION:I-205
SUMMARY:Element Base of Control Systems (Sensors and Detectors of Physical 
 Installations)
RRULE:FREQ=WEEKLY;UNTIL=20161210T115000;INTERVAL=2;WKST=MO
END:VEVENT
BEGIN:VEVENT
DTSTAMP:20260419T170352Z
UID:6d2f6408-039a-4ef8-8698-d957e9ee4a7e
DTSTART;TZID=Europe/Moscow:20160901T124500
DTEND;TZID=Europe/Moscow:20160901T142000
DESCRIPTION:Trofimov A.I.\, Miheev V.P. S13-101\, S13-102\, S13-103
LOCATION:B-304
SUMMARY:Element Base of Control Systems (Sensors and Detectors of Physical 
 Installations)
RRULE:FREQ=WEEKLY;UNTIL=20161215T142000;WKST=MO
END:VEVENT
BEGIN:VEVENT
DTSTAMP:20260419T170352Z
UID:c4ea4367-5803-43b0-8f1d-41e5d2ae5cf3
DTSTART;TZID=Europe/Moscow:20160910T124500
DTEND;TZID=Europe/Moscow:20160910T142000
DESCRIPTION:Trofimov A.I.\, Miheev V.P. S13-102
LOCATION:V-415
SUMMARY:Element Base of Control Systems (Sensors and Detectors of Physical 
 Installations)
RRULE:FREQ=WEEKLY;UNTIL=20161217T142000;INTERVAL=2;WKST=MO
END:VEVENT
BEGIN:VEVENT
DTSTAMP:20260419T170352Z
UID:90958bda-9337-41b5-b287-a2f2fe6d8b70
DTSTART;TZID=Europe/Moscow:20160903T143000
DTEND;TZID=Europe/Moscow:20160903T160500
DESCRIPTION:Trofimov A.I.\, Miheev V.P. S13-101
LOCATION:I-205
SUMMARY:Element Base of Control Systems (Sensors and Detectors of Physical 
 Installations)
RRULE:FREQ=WEEKLY;UNTIL=20161210T160500;INTERVAL=2;WKST=MO
END:VEVENT
END:VCALENDAR
