BEGIN:VCALENDAR
VERSION:2.0
PRODID:icalendar-ruby
CALSCALE:GREGORIAN
METHOD:PUBLISH
BEGIN:VTIMEZONE
TZID:Europe/Moscow
BEGIN:STANDARD
DTSTART:19700101T000000
TZOFFSETFROM:+0300
TZOFFSETTO:+0300
TZNAME:MSK
END:STANDARD
END:VTIMEZONE
BEGIN:VEVENT
DTSTAMP:20260419T122737Z
UID:a286c712-2376-4fac-86c0-b64dd8c1c1c6
DTSTART;TZID=Europe/Moscow:20160902T083000
DTEND;TZID=Europe/Moscow:20160902T100500
DESCRIPTION:Lototskiy A.P. S12-001
LOCATION:A-217
SUMMARY:Electric Pulse Technology
RRULE:FREQ=WEEKLY;UNTIL=20161209T100500;INTERVAL=2;WKST=MO
END:VEVENT
BEGIN:VEVENT
DTSTAMP:20260419T122737Z
UID:e3d9125a-af2c-4528-bfa7-8e988d116995
DTSTART;TZID=Europe/Moscow:20160909T083000
DTEND;TZID=Europe/Moscow:20160909T100500
DESCRIPTION:Lototskiy A.P. S13-001
LOCATION:A-217
SUMMARY:Electric Pulse Technology
RRULE:FREQ=WEEKLY;UNTIL=20161216T100500;INTERVAL=2;WKST=MO
EXDATE:20161104T083000
END:VEVENT
BEGIN:VEVENT
DTSTAMP:20260419T122737Z
UID:f31428d6-1b15-4bb1-b303-a3f9661907fd
DTSTART;TZID=Europe/Moscow:20160902T101500
DTEND;TZID=Europe/Moscow:20160902T115000
DESCRIPTION:Lototskiy A.P. S12-001
LOCATION:A-217
SUMMARY:Electric Pulse Technology
RRULE:FREQ=WEEKLY;UNTIL=20161216T115000;WKST=MO
EXDATE:20161104T101500
END:VEVENT
BEGIN:VEVENT
DTSTAMP:20260419T122737Z
UID:4adec66e-e6df-4bdd-9c56-940ae90dd64e
DTSTART;TZID=Europe/Moscow:20160905T143000
DTEND;TZID=Europe/Moscow:20160905T160500
DESCRIPTION:Lototskiy A.P. S12-001\, S13-001
LOCATION:B-214
SUMMARY:Electric Pulse Technology
RRULE:FREQ=WEEKLY;UNTIL=20161219T160500;WKST=MO
END:VEVENT
BEGIN:VEVENT
DTSTAMP:20260419T122737Z
UID:1c7bd7c3-5dc3-4b7b-a63e-dff06cbf2ed1
DTSTART;TZID=Europe/Moscow:20160905T161500
DTEND;TZID=Europe/Moscow:20160905T175000
DESCRIPTION:Lototskiy A.P. S12-001\, S13-001
LOCATION:B-214
SUMMARY:Electric Pulse Technology
RRULE:FREQ=WEEKLY;UNTIL=20161219T175000;WKST=MO
END:VEVENT
END:VCALENDAR
