BEGIN:VCALENDAR
VERSION:2.0
PRODID:icalendar-ruby
CALSCALE:GREGORIAN
METHOD:PUBLISH
BEGIN:VTIMEZONE
TZID:Europe/Moscow
BEGIN:STANDARD
DTSTART:19700101T000000
TZOFFSETFROM:+0300
TZOFFSETTO:+0300
TZNAME:MSK
END:STANDARD
END:VTIMEZONE
BEGIN:VEVENT
DTSTAMP:20260420T203922Z
UID:84c445da-16b0-471d-8151-49eabd7b625f
DTSTART;TZID=Europe/Moscow:20160903T083000
DTEND;TZID=Europe/Moscow:20160903T100500
DESCRIPTION:Butuzov V.A. S13-404
LOCATION:D-311
SUMMARY:Automated Design Systems in Microelectronics
RRULE:FREQ=WEEKLY;UNTIL=20161210T100500;INTERVAL=2;WKST=MO
END:VEVENT
BEGIN:VEVENT
DTSTAMP:20260420T203922Z
UID:f8cc0d4e-36fd-4d51-9167-9bde4094f2b0
DTSTART;TZID=Europe/Moscow:20160910T083000
DTEND;TZID=Europe/Moscow:20160910T100500
DESCRIPTION:Butuzov V.A. S13-404
LOCATION:D-311
SUMMARY:Automated Design Systems in Microelectronics
RRULE:FREQ=WEEKLY;UNTIL=20161217T100500;INTERVAL=2;WKST=MO
END:VEVENT
BEGIN:VEVENT
DTSTAMP:20260420T203922Z
UID:17ec8a28-0a82-422c-b153-903359856d75
DTSTART;TZID=Europe/Moscow:20160903T101500
DTEND;TZID=Europe/Moscow:20160903T115000
DESCRIPTION:Butuzov V.A. S13-403\, S13-404
LOCATION:D-311
SUMMARY:Automated Design Systems in Microelectronics
RRULE:FREQ=WEEKLY;UNTIL=20161217T115000;WKST=MO
END:VEVENT
BEGIN:VEVENT
DTSTAMP:20260420T203922Z
UID:82f18a10-0737-49e7-93af-a5fac761be59
DTSTART;TZID=Europe/Moscow:20160903T124500
DTEND;TZID=Europe/Moscow:20160903T142000
DESCRIPTION:Butuzov V.A. S13-403
LOCATION:D-311
SUMMARY:Automated Design Systems in Microelectronics
RRULE:FREQ=WEEKLY;UNTIL=20161210T142000;INTERVAL=2;WKST=MO
END:VEVENT
BEGIN:VEVENT
DTSTAMP:20260420T203922Z
UID:b2777580-6fe4-4c20-bf75-e84e47c792d6
DTSTART;TZID=Europe/Moscow:20160910T124500
DTEND;TZID=Europe/Moscow:20160910T142000
DESCRIPTION:Butuzov V.A. S13-403
LOCATION:D-311
SUMMARY:Automated Design Systems in Microelectronics
RRULE:FREQ=WEEKLY;UNTIL=20161217T142000;INTERVAL=2;WKST=MO
END:VEVENT
BEGIN:VEVENT
DTSTAMP:20260420T203922Z
UID:38e3f0de-fe31-4b3d-aa8f-2bcfcb4bb43b
DTSTART;TZID=Europe/Moscow:20160907T184500
DTEND;TZID=Europe/Moscow:20160907T202000
DESCRIPTION:Butuzov V.A. B13-V74
LOCATION:D-303
SUMMARY:Microcircuitry
RRULE:FREQ=WEEKLY;UNTIL=20161026T202000;WKST=MO
END:VEVENT
BEGIN:VEVENT
DTSTAMP:20260420T203922Z
UID:5ebf7de1-0ebe-42f2-81e7-39374a8fbd63
DTSTART;TZID=Europe/Moscow:20160907T202500
DTEND;TZID=Europe/Moscow:20160907T220000
DESCRIPTION:Butuzov V.A. B13-V74
LOCATION:D-303
SUMMARY:Microcircuitry
RRULE:FREQ=WEEKLY;UNTIL=20161026T220000;WKST=MO
END:VEVENT
BEGIN:VEVENT
DTSTAMP:20260420T203922Z
UID:428bc332-985d-432f-b292-c36c4fba2f45
DTSTART;TZID=Europe/Moscow:20160905T202500
DTEND;TZID=Europe/Moscow:20160905T220000
DESCRIPTION:Butuzov V.A. B13-V74
LOCATION:D-303
SUMMARY:Microcircuitry
RRULE:FREQ=WEEKLY;UNTIL=20161024T220000;WKST=MO
END:VEVENT
END:VCALENDAR
