BEGIN:VCALENDAR
VERSION:2.0
PRODID:icalendar-ruby
CALSCALE:GREGORIAN
METHOD:PUBLISH
BEGIN:VTIMEZONE
TZID:Europe/Moscow
BEGIN:STANDARD
DTSTART:19700101T000000
TZOFFSETFROM:+0300
TZOFFSETTO:+0300
TZNAME:MSK
END:STANDARD
END:VTIMEZONE
BEGIN:VEVENT
DTSTAMP:20260419T223623Z
UID:6ba684b3-881c-4063-ba8a-c1337426eea6
DTSTART;TZID=Europe/Moscow:20230906T184500
DTEND;TZID=Europe/Moscow:20230906T220000
DESCRIPTION:Kondratenko L.A. M22-684
SUMMARY:Surface Quality Effects on Equipment Performance
RRULE:FREQ=WEEKLY;UNTIL=20230920T220000;WKST=MO
END:VEVENT
BEGIN:VEVENT
DTSTAMP:20260419T223623Z
UID:323f1bf7-d3d8-450f-80a8-b2be0b4bb7b1
DTSTART;TZID=Europe/Moscow:20230927T184500
DTEND;TZID=Europe/Moscow:20230927T220000
DESCRIPTION:Kondratenko L.A. M22-684
SUMMARY:Surface Quality Effects on Equipment Performance
RRULE:FREQ=WEEKLY;UNTIL=20231101T220000;WKST=MO
END:VEVENT
BEGIN:VEVENT
DTSTAMP:20260419T223623Z
UID:e80efd88-31a4-4302-b0d3-049136cd1cc1
DTSTART;TZID=Europe/Moscow:20231108T184500
DTEND;TZID=Europe/Moscow:20231108T211000
DESCRIPTION:Kondratenko L.A. M22-684
SUMMARY:Surface Quality Effects on Equipment Performance
RRULE:FREQ=WEEKLY;UNTIL=20231213T211000;WKST=MO
END:VEVENT
END:VCALENDAR
