BEGIN:VCALENDAR
VERSION:2.0
PRODID:icalendar-ruby
CALSCALE:GREGORIAN
METHOD:PUBLISH
BEGIN:VTIMEZONE
TZID:Europe/Moscow
BEGIN:STANDARD
DTSTART:19700101T000000
TZOFFSETFROM:+0300
TZOFFSETTO:+0300
TZNAME:MSK
END:STANDARD
END:VTIMEZONE
BEGIN:VEVENT
DTSTAMP:20260419T221357Z
UID:8fcb12d7-971e-4510-a83c-9512db4cf280
DTSTART;TZID=Europe/Moscow:20160905T101500
DTEND;TZID=Europe/Moscow:20160905T115000
DESCRIPTION:Zaytsev K.S. B13-702
LOCATION:B-217
SUMMARY:Information Technologies in Social Communications
RRULE:FREQ=WEEKLY;UNTIL=20161219T115000;WKST=MO
END:VEVENT
BEGIN:VEVENT
DTSTAMP:20260419T221357Z
UID:43d6d811-256f-48a7-aae0-151a674d46b5
DTSTART;TZID=Europe/Moscow:20160905T115500
DTEND;TZID=Europe/Moscow:20160905T133000
DESCRIPTION:Zaytsev K.S. B13-702
LOCATION:K-822
SUMMARY:Information Technologies in Social Communications
RRULE:FREQ=WEEKLY;UNTIL=20161219T133000;WKST=MO
END:VEVENT
BEGIN:VEVENT
DTSTAMP:20260419T221357Z
UID:45b28920-a668-4e07-ba94-07aa75e0a23c
DTSTART;TZID=Europe/Moscow:20160913T115500
DTEND;TZID=Europe/Moscow:20160913T133000
DESCRIPTION:Zaytsev K.S. B13-702
LOCATION:K-815
SUMMARY:Information Society and Problems of Applied Informatics
RRULE:FREQ=WEEKLY;UNTIL=20161220T133000;INTERVAL=2;WKST=MO
END:VEVENT
BEGIN:VEVENT
DTSTAMP:20260419T221357Z
UID:0421201a-813d-4f19-89ba-94ed65395f1b
DTSTART;TZID=Europe/Moscow:20160906T143000
DTEND;TZID=Europe/Moscow:20160906T160500
DESCRIPTION:Zaytsev K.S. B13-702
LOCATION:V-417
SUMMARY:Information Society and Problems of Applied Informatics
RRULE:FREQ=WEEKLY;UNTIL=20161213T160500;INTERVAL=2;WKST=MO
END:VEVENT
BEGIN:VEVENT
DTSTAMP:20260419T221357Z
UID:08a703f8-06ab-44d9-8506-f8c575ce9455
DTSTART;TZID=Europe/Moscow:20160913T143000
DTEND;TZID=Europe/Moscow:20160913T160500
DESCRIPTION:Zaytsev K.S. B13-702
LOCATION:B-217
SUMMARY:Information Society and Problems of Applied Informatics
RRULE:FREQ=WEEKLY;UNTIL=20161220T160500;INTERVAL=2;WKST=MO
END:VEVENT
END:VCALENDAR
