BEGIN:VCALENDAR
VERSION:2.0
PRODID:icalendar-ruby
CALSCALE:GREGORIAN
METHOD:PUBLISH
BEGIN:VTIMEZONE
TZID:Europe/Moscow
BEGIN:STANDARD
DTSTART:19700101T000000
TZOFFSETFROM:+0300
TZOFFSETTO:+0300
TZNAME:MSK
END:STANDARD
END:VTIMEZONE
BEGIN:VEVENT
DTSTAMP:20260419T221412Z
UID:9f127b0c-eb79-4fc7-be06-d5fecab2d8c8
DTSTART;TZID=Europe/Moscow:20230902T101500
DTEND;TZID=Europe/Moscow:20230902T115000
DESCRIPTION:Kalashnikov V.D. B20-403\, B20-413\, B20-465
LOCATION:V-306
SUMMARY:Digital electronics and circuitry
RRULE:FREQ=WEEKLY;UNTIL=20231209T115000;INTERVAL=2;WKST=MO
END:VEVENT
BEGIN:VEVENT
DTSTAMP:20260419T221412Z
UID:a2556c0d-27f5-4e58-ae4e-40dccd7b461a
DTSTART;TZID=Europe/Moscow:20230909T101500
DTEND;TZID=Europe/Moscow:20230909T115000
DESCRIPTION:Kalashnikov V.D. B20-403\, B20-413\, B20-465
LOCATION:V-306
SUMMARY:Digital electronics and circuitry
RRULE:FREQ=WEEKLY;UNTIL=20231216T115000;INTERVAL=2;WKST=MO
EXDATE:20231104T101500
END:VEVENT
END:VCALENDAR
