BEGIN:VCALENDAR
VERSION:2.0
PRODID:icalendar-ruby
CALSCALE:GREGORIAN
METHOD:PUBLISH
BEGIN:VTIMEZONE
TZID:Europe/Moscow
BEGIN:STANDARD
DTSTART:19700101T000000
TZOFFSETFROM:+0300
TZOFFSETTO:+0300
TZNAME:MSK
END:STANDARD
END:VTIMEZONE
BEGIN:VEVENT
DTSTAMP:20260420T012224Z
UID:6e32022b-22d7-46d9-a28a-d0942d14e9e2
DTSTART;TZID=Europe/Moscow:20230907T143000
DTEND;TZID=Europe/Moscow:20230907T160500
DESCRIPTION:Smirnov P.V. M22-507
LOCATION:T-209
SUMMARY:Development and Operation of Cryptographic Infrastructure
RRULE:FREQ=WEEKLY;UNTIL=20231214T160500;INTERVAL=2;WKST=MO
END:VEVENT
BEGIN:VEVENT
DTSTAMP:20260420T012224Z
UID:5c091a4a-7635-41bb-a8b8-6dd51dc92735
DTSTART;TZID=Europe/Moscow:20230906T202500
DTEND;TZID=Europe/Moscow:20230906T220000
DESCRIPTION:Smirnov P.V. M22-507
LOCATION:V-117
SUMMARY:Development and Operation of Cryptographic Infrastructure
RRULE:FREQ=WEEKLY;UNTIL=20231213T220000;INTERVAL=2;WKST=MO
END:VEVENT
BEGIN:VEVENT
DTSTAMP:20260420T012224Z
UID:a268fd12-3e75-4632-8e9a-f80cbe33e5c3
DTSTART;TZID=Europe/Moscow:20231204T175500
DTEND;TZID=Europe/Moscow:20231204T220000
DESCRIPTION:Smirnov P.V. M23-505
SUMMARY:Protected Information Systems
END:VEVENT
BEGIN:VEVENT
DTSTAMP:20260420T012224Z
UID:1c62407b-afbd-4c20-be10-17fd24158cf4
DTSTART;TZID=Europe/Moscow:20231206T175500
DTEND;TZID=Europe/Moscow:20231206T220000
DESCRIPTION:Smirnov P.V. M23-505
SUMMARY:Protected Information Systems
END:VEVENT
BEGIN:VEVENT
DTSTAMP:20260420T012224Z
UID:06036447-7778-4ae8-be84-7c027cf978f0
DTSTART;TZID=Europe/Moscow:20231207T161500
DTEND;TZID=Europe/Moscow:20231207T175000
DESCRIPTION:Smirnov P.V. M23-505
SUMMARY:Protected Information Systems
END:VEVENT
BEGIN:VEVENT
DTSTAMP:20260420T012224Z
UID:cd47e906-0f9c-4c7d-8d07-19c279c76158
DTSTART;TZID=Europe/Moscow:20231209T143000
DTEND;TZID=Europe/Moscow:20231209T160500
DESCRIPTION:Smirnov P.V. M23-505
SUMMARY:Protected Information Systems
END:VEVENT
BEGIN:VEVENT
DTSTAMP:20260420T012224Z
UID:743438e7-0a4c-463c-9022-7d4192119938
DTSTART;TZID=Europe/Moscow:20231211T175500
DTEND;TZID=Europe/Moscow:20231211T220000
DESCRIPTION:Smirnov P.V. M23-505
SUMMARY:Protected Information Systems
END:VEVENT
BEGIN:VEVENT
DTSTAMP:20260420T012224Z
UID:a25c32ac-30ab-47ba-981e-30bb4d99abb6
DTSTART;TZID=Europe/Moscow:20231213T175500
DTEND;TZID=Europe/Moscow:20231213T220000
DESCRIPTION:Smirnov P.V. M23-505
SUMMARY:Protected Information Systems
END:VEVENT
BEGIN:VEVENT
DTSTAMP:20260420T012224Z
UID:c2fc089b-5365-4de6-8de4-55ec61e9fb6a
DTSTART;TZID=Europe/Moscow:20231214T161500
DTEND;TZID=Europe/Moscow:20231214T175000
DESCRIPTION:Smirnov P.V. M23-505
SUMMARY:Protected Information Systems
END:VEVENT
BEGIN:VEVENT
DTSTAMP:20260420T012224Z
UID:9f389b36-06cd-4c43-9345-4a5c53ecb9ae
DTSTART;TZID=Europe/Moscow:20231216T143000
DTEND;TZID=Europe/Moscow:20231216T160500
DESCRIPTION:Smirnov P.V. M23-505
SUMMARY:Protected Information Systems
END:VEVENT
BEGIN:VEVENT
DTSTAMP:20260420T012224Z
UID:08541ccc-17e0-4d96-93f8-90ce38673a86
DTSTART;TZID=Europe/Moscow:20231218T175500
DTEND;TZID=Europe/Moscow:20231218T220000
DESCRIPTION:Smirnov P.V. M23-505
SUMMARY:Protected Information Systems
END:VEVENT
BEGIN:VEVENT
DTSTAMP:20260420T012224Z
UID:7754f8ba-2908-47c9-9e0f-8cc9abb9eac4
DTSTART;TZID=Europe/Moscow:20231221T161500
DTEND;TZID=Europe/Moscow:20231221T175000
DESCRIPTION:Smirnov P.V. M23-505
SUMMARY:Protected Information Systems
END:VEVENT
BEGIN:VEVENT
DTSTAMP:20260420T012224Z
UID:2ad6088b-7242-46f1-b558-224a831b4fa3
DTSTART;TZID=Europe/Moscow:20231223T143000
DTEND;TZID=Europe/Moscow:20231223T160500
DESCRIPTION:Smirnov P.V. M23-505
SUMMARY:Protected Information Systems
END:VEVENT
END:VCALENDAR
