BEGIN:VCALENDAR
VERSION:2.0
PRODID:icalendar-ruby
CALSCALE:GREGORIAN
METHOD:PUBLISH
BEGIN:VTIMEZONE
TZID:Europe/Moscow
BEGIN:STANDARD
DTSTART:19700101T000000
TZOFFSETFROM:+0300
TZOFFSETTO:+0300
TZNAME:MSK
END:STANDARD
END:VTIMEZONE
BEGIN:VEVENT
DTSTAMP:20260420T012146Z
UID:9c9f0be5-f0f2-4ed4-8d40-150e0c42b38d
DTSTART;TZID=Europe/Moscow:20160906T124500
DTEND;TZID=Europe/Moscow:20160906T142000
DESCRIPTION:Leskin S.T.\, Panin M.P. B13-301
LOCATION:E-212
SUMMARY:Radiation Physics
RRULE:FREQ=WEEKLY;UNTIL=20161220T142000;WKST=MO
END:VEVENT
BEGIN:VEVENT
DTSTAMP:20260420T012146Z
UID:6c77f709-b4be-41bf-b888-139ded4a37db
DTSTART;TZID=Europe/Moscow:20160906T143000
DTEND;TZID=Europe/Moscow:20160906T160500
DESCRIPTION:Leskin S.T.\, Panin M.P. B13-301
LOCATION:E-212
SUMMARY:Radiation Physics
RRULE:FREQ=WEEKLY;UNTIL=20161220T160500;WKST=MO
END:VEVENT
END:VCALENDAR
