BEGIN:VCALENDAR
VERSION:2.0
PRODID:icalendar-ruby
CALSCALE:GREGORIAN
METHOD:PUBLISH
BEGIN:VTIMEZONE
TZID:Europe/Moscow
BEGIN:STANDARD
DTSTART:19700101T000000
TZOFFSETFROM:+0300
TZOFFSETTO:+0300
TZNAME:MSK
END:STANDARD
END:VTIMEZONE
BEGIN:VEVENT
DTSTAMP:20260420T184754Z
UID:3d863e13-1d98-43a6-b6e8-4f10324e14a2
DTSTART;TZID=Europe/Moscow:20230904T101500
DTEND;TZID=Europe/Moscow:20230904T115000
DESCRIPTION:Kozyrev A.A. M22-304
LOCATION:FIAN
SUMMARY:
RRULE:FREQ=WEEKLY;UNTIL=20231211T115000;INTERVAL=2;WKST=MO
END:VEVENT
BEGIN:VEVENT
DTSTAMP:20260420T184754Z
UID:6b4ed71f-d433-4041-af31-09d0990bffd0
DTSTART;TZID=Europe/Moscow:20230911T101500
DTEND;TZID=Europe/Moscow:20230911T115000
DESCRIPTION:Kozyrev A.A. M22-304
LOCATION:FIAN
SUMMARY:
RRULE:FREQ=WEEKLY;UNTIL=20231218T115000;INTERVAL=2;WKST=MO
END:VEVENT
BEGIN:VEVENT
DTSTAMP:20260420T184754Z
UID:b7209386-ff0b-423c-bc70-08775e2e173f
DTSTART;TZID=Europe/Moscow:20230904T115500
DTEND;TZID=Europe/Moscow:20230904T133000
DESCRIPTION:Fronya A.A.\, Tupitsyn I.M.\, Marmalyuk A.A.\, Kulchin Y.N.
 \, Kozyrev A.A.\, Kozlovskiy V.I.\, Bezotosnyy V.V.\, Zavestovskaya I.
 N.\, Cheshev E.A. M22-304
LOCATION:FIAN
SUMMARY:Practical Training (Research Work)
RRULE:FREQ=WEEKLY;UNTIL=20231218T133000;WKST=MO
END:VEVENT
END:VCALENDAR
