BEGIN:VCALENDAR
VERSION:2.0
PRODID:icalendar-ruby
CALSCALE:GREGORIAN
METHOD:PUBLISH
BEGIN:VTIMEZONE
TZID:Europe/Moscow
BEGIN:STANDARD
DTSTART:19700101T000000
TZOFFSETFROM:+0300
TZOFFSETTO:+0300
TZNAME:MSK
END:STANDARD
END:VTIMEZONE
BEGIN:VEVENT
DTSTAMP:20260419T165406Z
UID:23dd578e-3265-475c-8753-83c2fde5afa6
DTSTART;TZID=Europe/Moscow:20230907T143000
DTEND;TZID=Europe/Moscow:20230907T160500
DESCRIPTION:Ryabova A.V. M22-303
LOCATION:IOF RAN
SUMMARY:Modern optical microscopy
RRULE:FREQ=WEEKLY;UNTIL=20230928T160500;WKST=MO
END:VEVENT
BEGIN:VEVENT
DTSTAMP:20260419T165406Z
UID:f52cd617-88a8-470e-aaf2-38204c50b4e3
DTSTART;TZID=Europe/Moscow:20231005T143000
DTEND;TZID=Europe/Moscow:20231005T160500
DESCRIPTION:Ryabova A.V. M22-303
LOCATION:IOF RAN
SUMMARY:Modern optical microscopy
RRULE:FREQ=WEEKLY;UNTIL=20231221T160500;WKST=MO
END:VEVENT
END:VCALENDAR
