BEGIN:VCALENDAR
VERSION:2.0
PRODID:icalendar-ruby
CALSCALE:GREGORIAN
METHOD:PUBLISH
BEGIN:VTIMEZONE
TZID:Europe/Moscow
BEGIN:STANDARD
DTSTART:19700101T000000
TZOFFSETFROM:+0300
TZOFFSETTO:+0300
TZNAME:MSK
END:STANDARD
END:VTIMEZONE
BEGIN:VEVENT
DTSTAMP:20260419T120454Z
UID:86494d06-0e51-4b5e-8ba3-9168edb2e1c4
DTSTART;TZID=Europe/Moscow:20230901T101500
DTEND;TZID=Europe/Moscow:20230901T115000
DESCRIPTION:Bernt D.D.\, Pisarev A.A. B20-202
LOCATION:33-103
SUMMARY:Physics Seminar in English
RRULE:FREQ=WEEKLY;UNTIL=20231215T115000;WKST=MO
END:VEVENT
BEGIN:VEVENT
DTSTAMP:20260419T120454Z
UID:ff391f60-6157-4e8a-9300-cd839d1758f4
DTSTART;TZID=Europe/Moscow:20230901T115500
DTEND;TZID=Europe/Moscow:20230901T133000
DESCRIPTION:Bernt D.D.\, Pisarev A.A. B21-202\, B21-212
LOCATION:33-103
SUMMARY:English Language: Scientific and Technical Translation
RRULE:FREQ=WEEKLY;UNTIL=20231215T133000;WKST=MO
END:VEVENT
BEGIN:VEVENT
DTSTAMP:20260419T120454Z
UID:ce03af82-cd34-4ae0-ad24-701cb5000c26
DTSTART;TZID=Europe/Moscow:20230906T115500
DTEND;TZID=Europe/Moscow:20230906T133000
DESCRIPTION:Pisarev A.A. M22-208
LOCATION:33-103
SUMMARY:Scientific Seminar
RRULE:FREQ=WEEKLY;UNTIL=20231220T133000;WKST=MO
END:VEVENT
END:VCALENDAR
