BEGIN:VCALENDAR
VERSION:2.0
PRODID:icalendar-ruby
CALSCALE:GREGORIAN
METHOD:PUBLISH
BEGIN:VTIMEZONE
TZID:Europe/Moscow
BEGIN:STANDARD
DTSTART:19700101T000000
TZOFFSETFROM:+0300
TZOFFSETTO:+0300
TZNAME:MSK
END:STANDARD
END:VTIMEZONE
BEGIN:VEVENT
DTSTAMP:20260419T210907Z
UID:e56de932-6603-4f43-917e-ba9553c71bbf
DTSTART;TZID=Europe/Moscow:20230906T170500
DTEND;TZID=Europe/Moscow:20230906T175000
DESCRIPTION:Shlepkina E.S. M22-115
LOCATION:Kurchatovskiy institut
SUMMARY:Monte Carlo Generators in Particle Physics
RRULE:FREQ=WEEKLY;UNTIL=20231220T175000;WKST=MO
END:VEVENT
END:VCALENDAR
