BEGIN:VCALENDAR
VERSION:2.0
PRODID:icalendar-ruby
CALSCALE:GREGORIAN
METHOD:PUBLISH
BEGIN:VTIMEZONE
TZID:Europe/Moscow
BEGIN:STANDARD
DTSTART:19700101T000000
TZOFFSETFROM:+0300
TZOFFSETTO:+0300
TZNAME:MSK
END:STANDARD
END:VTIMEZONE
BEGIN:VEVENT
DTSTAMP:20260419T221358Z
UID:78e69d48-6246-47d3-996c-aee98c291f27
DTSTART;TZID=Europe/Moscow:20230904T115500
DTEND;TZID=Europe/Moscow:20230904T133000
DESCRIPTION:Bukalin A.O. B22-504
LOCATION:K-923
SUMMARY:
RRULE:FREQ=WEEKLY;UNTIL=20231218T133000;WKST=MO
END:VEVENT
BEGIN:VEVENT
DTSTAMP:20260419T221358Z
UID:077eb314-fb60-422a-b28a-f97151f498e2
DTSTART;TZID=Europe/Moscow:20230901T124500
DTEND;TZID=Europe/Moscow:20230901T142000
DESCRIPTION:Bukalin A.O. B22-524
LOCATION:K-923
SUMMARY:
RRULE:FREQ=WEEKLY;UNTIL=20231215T142000;WKST=MO
END:VEVENT
BEGIN:VEVENT
DTSTAMP:20260419T221358Z
UID:76f0781c-2097-46a9-82dd-24d6caa6e511
DTSTART;TZID=Europe/Moscow:20230907T124500
DTEND;TZID=Europe/Moscow:20230907T142000
DESCRIPTION:Bukalin A.O. B22-504
LOCATION:K-923
SUMMARY:
RRULE:FREQ=WEEKLY;UNTIL=20231214T142000;INTERVAL=2;WKST=MO
END:VEVENT
BEGIN:VEVENT
DTSTAMP:20260419T221358Z
UID:9f61bffc-5c6d-47ce-97bf-a9eeb2b1f75c
DTSTART;TZID=Europe/Moscow:20230901T143000
DTEND;TZID=Europe/Moscow:20230901T160500
DESCRIPTION:Bukalin A.O.\, Ktitrov S.V. M22-501
LOCATION:K-315
SUMMARY:Concurrent Computing
RRULE:FREQ=WEEKLY;UNTIL=20231208T160500;INTERVAL=2;WKST=MO
END:VEVENT
BEGIN:VEVENT
DTSTAMP:20260419T221358Z
UID:0fd04aa3-5214-4093-8bc3-1098fb77118e
DTSTART;TZID=Europe/Moscow:20230908T143000
DTEND;TZID=Europe/Moscow:20230908T160500
DESCRIPTION:Bukalin A.O. M22-501
LOCATION:K-315
SUMMARY:Concurrent Computing
RRULE:FREQ=WEEKLY;UNTIL=20231215T160500;INTERVAL=2;WKST=MO
END:VEVENT
BEGIN:VEVENT
DTSTAMP:20260419T221358Z
UID:1fa3fcbc-e293-4051-b9d0-2ff055c1269e
DTSTART;TZID=Europe/Moscow:20230904T161500
DTEND;TZID=Europe/Moscow:20230904T175000
DESCRIPTION:Bukalin A.O. B22-524
LOCATION:K-312
SUMMARY:
RRULE:FREQ=WEEKLY;UNTIL=20231211T175000;INTERVAL=2;WKST=MO
END:VEVENT
END:VCALENDAR
