BEGIN:VCALENDAR
VERSION:2.0
PRODID:icalendar-ruby
CALSCALE:GREGORIAN
METHOD:PUBLISH
BEGIN:VTIMEZONE
TZID:Europe/Moscow
BEGIN:STANDARD
DTSTART:19700101T000000
TZOFFSETFROM:+0300
TZOFFSETTO:+0300
TZNAME:MSK
END:STANDARD
END:VTIMEZONE
BEGIN:VEVENT
DTSTAMP:20260420T025419Z
UID:fe1b3d3c-ab7d-434f-9434-567f92524ae9
DTSTART;TZID=Europe/Moscow:20230905T101500
DTEND;TZID=Europe/Moscow:20230905T115000
DESCRIPTION:Chugunkov I.V. M23-112
LOCATION:V-206h
SUMMARY:Administration of operation system Linux
RRULE:FREQ=WEEKLY;UNTIL=20231024T115000;WKST=MO
END:VEVENT
BEGIN:VEVENT
DTSTAMP:20260420T025419Z
UID:703fb070-856e-40a6-9f45-a93022617f85
DTSTART;TZID=Europe/Moscow:20230907T101500
DTEND;TZID=Europe/Moscow:20230907T115000
DESCRIPTION:Polovneva Y.A.\, Chugunkov I.V. B23-502
LOCATION:V-409
SUMMARY:Informatics (Principles of Programming)
RRULE:FREQ=WEEKLY;UNTIL=20231214T115000;INTERVAL=2;WKST=MO
END:VEVENT
BEGIN:VEVENT
DTSTAMP:20260420T025419Z
UID:5f25f0c2-07ec-4290-935c-89e7eb122697
DTSTART;TZID=Europe/Moscow:20230914T101500
DTEND;TZID=Europe/Moscow:20230914T115000
DESCRIPTION:Chugunkov I.V.\, Polovneva Y.A. B23-506
LOCATION:B-216
SUMMARY:Informatics (Principles of Programming)
RRULE:FREQ=WEEKLY;UNTIL=20231221T115000;INTERVAL=2;WKST=MO
END:VEVENT
BEGIN:VEVENT
DTSTAMP:20260420T025419Z
UID:89bc2572-b374-444e-b28c-32772c33dc09
DTSTART;TZID=Europe/Moscow:20230904T110500
DTEND;TZID=Europe/Moscow:20230904T133000
DESCRIPTION:Chugunkov I.V. B22-703
LOCATION:V-210a
SUMMARY:Programming (Object-Oriented Programming). Subgroup 2
RRULE:FREQ=WEEKLY;UNTIL=20231218T133000;WKST=MO
END:VEVENT
BEGIN:VEVENT
DTSTAMP:20260420T025419Z
UID:5471f046-1a9b-49b9-8b54-2e686f75142b
DTSTART;TZID=Europe/Moscow:20230905T115500
DTEND;TZID=Europe/Moscow:20230905T133000
DESCRIPTION:Chugunkov I.V. M23-112
LOCATION:V-206h
SUMMARY:Administration of operation system Linux
RRULE:FREQ=WEEKLY;UNTIL=20231024T133000;WKST=MO
END:VEVENT
BEGIN:VEVENT
DTSTAMP:20260420T025419Z
UID:2928f188-232a-48a1-a406-ef3c6d090cf6
DTSTART;TZID=Europe/Moscow:20230907T133500
DTEND;TZID=Europe/Moscow:20230907T151500
DESCRIPTION:Chugunkov I.V. M22-522
LOCATION:MTSST
SUMMARY:Elements of Digital Devices
RRULE:FREQ=WEEKLY;UNTIL=20231214T151500;INTERVAL=2;WKST=MO
END:VEVENT
BEGIN:VEVENT
DTSTAMP:20260420T025419Z
UID:ddc48abd-5ff0-48f1-be44-9d4bfb1e1151
DTSTART;TZID=Europe/Moscow:20230914T133500
DTEND;TZID=Europe/Moscow:20230914T151500
DESCRIPTION:Chugunkov I.V. M22-522
LOCATION:MTSST
SUMMARY:Elements of Digital Devices
RRULE:FREQ=WEEKLY;UNTIL=20231221T151500;INTERVAL=2;WKST=MO
END:VEVENT
BEGIN:VEVENT
DTSTAMP:20260420T025419Z
UID:6663194a-83a9-4515-a270-43cf62e2c476
DTSTART;TZID=Europe/Moscow:20230914T161500
DTEND;TZID=Europe/Moscow:20230914T175000
DESCRIPTION:Polovneva Y.A.\, Chugunkov I.V. B23-515
LOCATION:NLK-453
SUMMARY:Informatics (Principles of Programming)
RRULE:FREQ=WEEKLY;UNTIL=20231221T175000;INTERVAL=2;WKST=MO
END:VEVENT
BEGIN:VEVENT
DTSTAMP:20260420T025419Z
UID:df0897c5-67db-4bd6-86da-a4503a9d9a99
DTSTART;TZID=Europe/Moscow:20230907T193500
DTEND;TZID=Europe/Moscow:20230907T211000
DESCRIPTION:Chugunkov I.V. A22-502
LOCATION:V-204b
SUMMARY:Pedagogical practice
RRULE:FREQ=WEEKLY;UNTIL=20230928T211000;WKST=MO
END:VEVENT
BEGIN:VEVENT
DTSTAMP:20260420T025419Z
UID:f1aa621a-6681-439f-88fe-62ac1832422b
DTSTART;TZID=Europe/Moscow:20231009T161500
DTEND;TZID=Europe/Moscow:20231009T184000
DESCRIPTION:Chugunkov I.V. M22-512
LOCATION:K-210
SUMMARY:Modern Payment Systems
RRULE:FREQ=WEEKLY;UNTIL=20231218T184000;WKST=MO
END:VEVENT
END:VCALENDAR
