BEGIN:VCALENDAR
VERSION:2.0
PRODID:icalendar-ruby
CALSCALE:GREGORIAN
METHOD:PUBLISH
BEGIN:VTIMEZONE
TZID:Europe/Moscow
BEGIN:STANDARD
DTSTART:19700101T000000
TZOFFSETFROM:+0300
TZOFFSETTO:+0300
TZNAME:MSK
END:STANDARD
END:VTIMEZONE
BEGIN:VEVENT
DTSTAMP:20260420T025351Z
UID:be89f5af-9c08-476b-8046-4fcdf406b883
DTSTART;TZID=Europe/Moscow:20230901T124500
DTEND;TZID=Europe/Moscow:20230901T142000
DESCRIPTION:Kuksa V.A. S20-701
LOCATION:K-815
SUMMARY:Professional Software Packages
RRULE:FREQ=WEEKLY;UNTIL=20231215T142000;WKST=MO
END:VEVENT
BEGIN:VEVENT
DTSTAMP:20260420T025351Z
UID:65c89e7c-e0d1-48ef-850c-d25e56c176ac
DTSTART;TZID=Europe/Moscow:20230907T143000
DTEND;TZID=Europe/Moscow:20230907T175000
DESCRIPTION:Kuksa V.A. B20-701
LOCATION:K-815
SUMMARY:Professional Software Packages
RRULE:FREQ=WEEKLY;UNTIL=20231123T175000;WKST=MO
END:VEVENT
BEGIN:VEVENT
DTSTAMP:20260420T025351Z
UID:048dea43-00cb-4837-97a2-2fc07d85d661
DTSTART;TZID=Europe/Moscow:20230901T143000
DTEND;TZID=Europe/Moscow:20230901T160500
DESCRIPTION:Kuksa V.A. S20-701
LOCATION:K-815
SUMMARY:Professional Software Packages
RRULE:FREQ=WEEKLY;UNTIL=20231208T160500;INTERVAL=2;WKST=MO
END:VEVENT
BEGIN:VEVENT
DTSTAMP:20260420T025351Z
UID:af6744c8-5ea3-4965-8d96-d3cde96f0616
DTSTART;TZID=Europe/Moscow:20230908T143000
DTEND;TZID=Europe/Moscow:20230908T160500
DESCRIPTION:Kuksa V.A. S20-701
LOCATION:K-815
SUMMARY:Professional Software Packages
RRULE:FREQ=WEEKLY;UNTIL=20231215T160500;INTERVAL=2;WKST=MO
END:VEVENT
BEGIN:VEVENT
DTSTAMP:20260420T025351Z
UID:c86f135b-2508-4cb9-b18b-70d5c2ca2b7f
DTSTART;TZID=Europe/Moscow:20230906T184500
DTEND;TZID=Europe/Moscow:20230906T220000
DESCRIPTION:Kuksa V.A. M22-711
LOCATION:K-714a
SUMMARY:
RRULE:FREQ=WEEKLY;UNTIL=20231213T220000;WKST=MO
END:VEVENT
BEGIN:VEVENT
DTSTAMP:20260420T025351Z
UID:61eef139-c14c-4aa5-8ac0-23692214e968
DTSTART;TZID=Europe/Moscow:20231019T184500
DTEND;TZID=Europe/Moscow:20231019T220000
DESCRIPTION:Kuksa V.A. M23-701\, M23-752
LOCATION:K-714a
SUMMARY:Modern computer technologies in Finance
END:VEVENT
BEGIN:VEVENT
DTSTAMP:20260420T025351Z
UID:fff84901-45e7-43e7-8c95-ed3fc3c87ff6
DTSTART;TZID=Europe/Moscow:20231013T184500
DTEND;TZID=Europe/Moscow:20231013T220000
DESCRIPTION:Kuksa V.A. M23-711
LOCATION:K-822
SUMMARY:Digital technologies in accounting and automation of business proce
 sses using 1C:ERP
END:VEVENT
BEGIN:VEVENT
DTSTAMP:20260420T025351Z
UID:cb99edfd-80d6-48ea-a405-0f8e59aa1368
DTSTART;TZID=Europe/Moscow:20231026T184500
DTEND;TZID=Europe/Moscow:20231026T220000
DESCRIPTION:Kuksa V.A. M23-701\, M23-752
LOCATION:K-714a
SUMMARY:Modern computer technologies in Finance
RRULE:FREQ=WEEKLY;UNTIL=20231221T220000;WKST=MO
END:VEVENT
BEGIN:VEVENT
DTSTAMP:20260420T025351Z
UID:e9262862-754b-4d01-bf9a-e04bdffe8186
DTSTART;TZID=Europe/Moscow:20231020T184500
DTEND;TZID=Europe/Moscow:20231020T220000
DESCRIPTION:Kuksa V.A. M23-711
LOCATION:K-822
SUMMARY:Digital technologies in accounting and automation of business proce
 sses using 1C:ERP
RRULE:FREQ=WEEKLY;UNTIL=20231215T220000;WKST=MO
END:VEVENT
BEGIN:VEVENT
DTSTAMP:20260420T025351Z
UID:34870bce-4bbd-4d06-b131-beab6d511764
DTSTART;TZID=Europe/Moscow:20231130T143000
DTEND;TZID=Europe/Moscow:20231130T175000
DESCRIPTION:Kuksa V.A. B20-701
LOCATION:K-822
SUMMARY:Planning and Budgeting in the Nuclear Industry Enterprises
RRULE:FREQ=WEEKLY;UNTIL=20231221T175000;WKST=MO
END:VEVENT
END:VCALENDAR
