BEGIN:VCALENDAR
VERSION:2.0
PRODID:icalendar-ruby
CALSCALE:GREGORIAN
METHOD:PUBLISH
BEGIN:VTIMEZONE
TZID:Europe/Moscow
BEGIN:STANDARD
DTSTART:19700101T000000
TZOFFSETFROM:+0300
TZOFFSETTO:+0300
TZNAME:MSK
END:STANDARD
END:VTIMEZONE
BEGIN:VEVENT
DTSTAMP:20260420T130235Z
UID:2ffec258-d624-4c92-a17e-8fe4aff981bc
DTSTART;TZID=Europe/Moscow:20230907T101500
DTEND;TZID=Europe/Moscow:20230907T133000
DESCRIPTION:Zavestovskaya I.N.\, Deev S.M.\, Grigorieva M.S.\, Fronya A
 .A.\, Truhin A.A.\, Popov A.A.\, Zalygin A.V. B20-301
LOCATION:dep.85
SUMMARY:
RRULE:FREQ=WEEKLY;UNTIL=20231221T133000;WKST=MO
END:VEVENT
BEGIN:VEVENT
DTSTAMP:20260420T130235Z
UID:2007dfe8-a09f-4767-90d0-ecbd988c0dc4
DTSTART;TZID=Europe/Moscow:20230901T124500
DTEND;TZID=Europe/Moscow:20230901T142000
DESCRIPTION:Popov A.A. M23-312
LOCATION:64-303
SUMMARY:Positron Emission Tomography
RRULE:FREQ=WEEKLY;UNTIL=20231215T142000;WKST=MO
END:VEVENT
BEGIN:VEVENT
DTSTAMP:20260420T130235Z
UID:1555fca1-e5d5-4ac8-9f5a-89f3f7db4ca8
DTSTART;TZID=Europe/Moscow:20230904T143000
DTEND;TZID=Europe/Moscow:20230904T160500
DESCRIPTION:Popov A.A.\, Klimentov S.M. M22-312
LOCATION:dep.85
SUMMARY:Practical Training (Research Work)
RRULE:FREQ=WEEKLY;UNTIL=20231218T160500;WKST=MO
END:VEVENT
BEGIN:VEVENT
DTSTAMP:20260420T130235Z
UID:02da22c4-0f9d-4626-a1ae-cc1060a6c24b
DTSTART;TZID=Europe/Moscow:20230907T161500
DTEND;TZID=Europe/Moscow:20230907T175000
DESCRIPTION:Popov A.A.\, Kabashin A.V. M23-312
LOCATION:FIAN
SUMMARY:Academic practice (industry\, technology)
RRULE:FREQ=WEEKLY;UNTIL=20231214T175000;INTERVAL=2;WKST=MO
END:VEVENT
BEGIN:VEVENT
DTSTAMP:20260420T130235Z
UID:93153e41-9395-41bd-a3e3-21d9e290808c
DTSTART;TZID=Europe/Moscow:20230904T175500
DTEND;TZID=Europe/Moscow:20230904T193000
DESCRIPTION:Popov A.A. M22-312
LOCATION:64-307
SUMMARY:
RRULE:FREQ=WEEKLY;UNTIL=20231211T193000;INTERVAL=2;WKST=MO
END:VEVENT
BEGIN:VEVENT
DTSTAMP:20260420T130235Z
UID:e5e543a7-8694-48d4-8f14-872ae3828e9f
DTSTART;TZID=Europe/Moscow:20230905T193500
DTEND;TZID=Europe/Moscow:20230905T211000
DESCRIPTION:Popov A.A. M23-312
LOCATION:64-306
SUMMARY:
RRULE:FREQ=WEEKLY;UNTIL=20231024T211000;WKST=MO
END:VEVENT
BEGIN:VEVENT
DTSTAMP:20260420T130235Z
UID:b5e40254-c7b9-4950-97cf-fe943aaafcea
DTSTART;TZID=Europe/Moscow:20231031T193500
DTEND;TZID=Europe/Moscow:20231031T211000
DESCRIPTION:Popov A.A. M23-312
LOCATION:64-306
SUMMARY:
RRULE:FREQ=WEEKLY;UNTIL=20231121T211000;WKST=MO
END:VEVENT
BEGIN:VEVENT
DTSTAMP:20260420T130235Z
UID:eb1be937-a3d9-4100-9eff-0776ad937e20
DTSTART;TZID=Europe/Moscow:20231120T161500
DTEND;TZID=Europe/Moscow:20231120T175000
DESCRIPTION:Popov A.A.\, Klimentov S.M. M22-304\, M22-312
LOCATION:64-306
SUMMARY:Lazer and Photonic Nanotechnologies for Nanomedicine
RRULE:FREQ=WEEKLY;UNTIL=20231211T175000;WKST=MO
END:VEVENT
END:VCALENDAR
