BEGIN:VCALENDAR
VERSION:2.0
PRODID:icalendar-ruby
CALSCALE:GREGORIAN
METHOD:PUBLISH
BEGIN:VTIMEZONE
TZID:Europe/Moscow
BEGIN:STANDARD
DTSTART:19700101T000000
TZOFFSETFROM:+0300
TZOFFSETTO:+0300
TZNAME:MSK
END:STANDARD
END:VTIMEZONE
BEGIN:VEVENT
DTSTAMP:20260420T012124Z
UID:7d2a7f12-025d-4921-a747-ce58e0dcac1e
DTSTART;TZID=Europe/Moscow:20230906T115500
DTEND;TZID=Europe/Moscow:20230906T133000
DESCRIPTION:Arhangelskaya I.V.\, Prostakov S.N. B21-302\, B21-362
LOCATION:46-7
SUMMARY:Programming Languages and Operating Systems
RRULE:FREQ=WEEKLY;UNTIL=20231220T133000;WKST=MO
END:VEVENT
BEGIN:VEVENT
DTSTAMP:20260420T012124Z
UID:21a48a47-ef39-4cff-ae41-56fe1ab56507
DTSTART;TZID=Europe/Moscow:20230901T143000
DTEND;TZID=Europe/Moscow:20230901T160500
DESCRIPTION:Prostakov S.N.\, Polyakov E.V. B20-302\, B20-362
LOCATION:46-7
SUMMARY:Telemedicine:  Methods and Tools
RRULE:FREQ=WEEKLY;UNTIL=20231215T160500;WKST=MO
END:VEVENT
BEGIN:VEVENT
DTSTAMP:20260420T012124Z
UID:2ffed5f2-772e-469e-bec5-9d4c27d0c84b
DTSTART;TZID=Europe/Moscow:20230914T143000
DTEND;TZID=Europe/Moscow:20230914T160500
DESCRIPTION:Prostakov S.N.\, Arhangelskaya I.V. M23-302
LOCATION:46-7
SUMMARY:Programming and Design Technologies
RRULE:FREQ=WEEKLY;UNTIL=20231221T160500;INTERVAL=2;WKST=MO
END:VEVENT
BEGIN:VEVENT
DTSTAMP:20260420T012124Z
UID:0c50b408-82d1-412e-8324-e5ed346ba522
DTSTART;TZID=Europe/Moscow:20230906T161500
DTEND;TZID=Europe/Moscow:20230906T170000
DESCRIPTION:Arhangelskiy A.I.\, Prostakov S.N. M23-302
LOCATION:46-7
SUMMARY:
RRULE:FREQ=WEEKLY;UNTIL=20231220T170000;WKST=MO
END:VEVENT
BEGIN:VEVENT
DTSTAMP:20260420T012124Z
UID:b5ac1d15-af0c-4dcb-9f30-0e5a4a5ffee3
DTSTART;TZID=Europe/Moscow:20230901T161500
DTEND;TZID=Europe/Moscow:20230901T175000
DESCRIPTION:Otchenashenko A.I.\, Prostakov S.N. B20-302\, B20-362
LOCATION:46-7
SUMMARY:Image Processing Systems in Medicine
RRULE:FREQ=WEEKLY;UNTIL=20231215T175000;WKST=MO
END:VEVENT
BEGIN:VEVENT
DTSTAMP:20260420T012124Z
UID:1ad24aa3-0957-4ded-8f79-3a47c3d2614a
DTSTART;TZID=Europe/Moscow:20230907T161500
DTEND;TZID=Europe/Moscow:20230907T175000
DESCRIPTION:Prostakov S.N.\, Arhangelskaya I.V. M23-302
LOCATION:46-7
SUMMARY:Programming and Design Technologies
RRULE:FREQ=WEEKLY;UNTIL=20231221T175000;WKST=MO
END:VEVENT
BEGIN:VEVENT
DTSTAMP:20260420T012124Z
UID:f48492a1-312b-4594-97af-3a4d2233f5dc
DTSTART;TZID=Europe/Moscow:20230906T175500
DTEND;TZID=Europe/Moscow:20230906T193000
DESCRIPTION:Prostakov S.N.\, Selchuk V.Y. M22-302
LOCATION:46-11
SUMMARY:Information Systems in Medicine
RRULE:FREQ=WEEKLY;UNTIL=20231220T193000;WKST=MO
END:VEVENT
END:VCALENDAR
