BEGIN:VCALENDAR
VERSION:2.0
PRODID:icalendar-ruby
CALSCALE:GREGORIAN
METHOD:PUBLISH
BEGIN:VTIMEZONE
TZID:Europe/Moscow
BEGIN:STANDARD
DTSTART:19700101T000000
TZOFFSETFROM:+0300
TZOFFSETTO:+0300
TZNAME:MSK
END:STANDARD
END:VTIMEZONE
BEGIN:VEVENT
DTSTAMP:20260420T174549Z
UID:62f8e876-5112-4289-81b3-ff3309473c8e
DTSTART;TZID=Europe/Moscow:20230901T092000
DTEND;TZID=Europe/Moscow:20230901T115000
DESCRIPTION:Lebedenko I.M.\, Belyaev V.N.\, Gromushkina E.V.\, Zaharkiv
  A.Y.\, Kurashvili Y.B. B21-301
LOCATION:dep.35
SUMMARY:
RRULE:FREQ=WEEKLY;UNTIL=20231215T115000;WKST=MO
END:VEVENT
BEGIN:VEVENT
DTSTAMP:20260420T174549Z
UID:f0bd4b5f-8d25-4e63-954a-182c75d3e835
DTSTART;TZID=Europe/Moscow:20230902T101500
DTEND;TZID=Europe/Moscow:20230902T124000
DESCRIPTION:Belyaev V.N. B20-301
LOCATION:64-407
SUMMARY:Principles of Continuum Mechanics and Physical Kinetics
RRULE:FREQ=WEEKLY;UNTIL=20230930T124000;WKST=MO
END:VEVENT
BEGIN:VEVENT
DTSTAMP:20260420T174549Z
UID:5d77999b-0e70-4558-b590-bebc1d4e71b1
DTSTART;TZID=Europe/Moscow:20230906T101500
DTEND;TZID=Europe/Moscow:20230906T124000
DESCRIPTION:Belyaev V.N.\, Shtotskiy Y.V.\, Lebedenko I.M.\, Zaharkiv A
 .Y.\, Dubov L.Y.\, Gromushkina E.V. M22-301\, M22-311
LOCATION:dep.35
SUMMARY:Practical Training (Research Work)
RRULE:FREQ=WEEKLY;UNTIL=20231122T124000;WKST=MO
END:VEVENT
BEGIN:VEVENT
DTSTAMP:20260420T174549Z
UID:e71a671c-29e4-4f91-b6ef-b987d37c61dc
DTSTART;TZID=Europe/Moscow:20230907T101500
DTEND;TZID=Europe/Moscow:20230907T133000
DESCRIPTION:Belyaev V.N.\, Shtotskiy Y.V.\, Lebedenko I.M.\, Kurashvili
  Y.B.\, Zaharkiv A.Y.\, Dubov L.Y.\, Gromushkina E.V. B20-301
LOCATION:dep.35
SUMMARY:
RRULE:FREQ=WEEKLY;UNTIL=20231221T133000;WKST=MO
END:VEVENT
BEGIN:VEVENT
DTSTAMP:20260420T174549Z
UID:2a496866-3dff-42c7-8a46-7da0ec26f542
DTSTART;TZID=Europe/Moscow:20230905T115500
DTEND;TZID=Europe/Moscow:20230905T133000
DESCRIPTION:Zaharkiv A.Y.\, Belyaev V.N. M22-381
SUMMARY:Practical Training (Research Work)
RRULE:FREQ=WEEKLY;UNTIL=20231219T133000;WKST=MO
END:VEVENT
BEGIN:VEVENT
DTSTAMP:20260420T174549Z
UID:430b5f91-d5f5-45d2-8333-e1bf54b88dbf
DTSTART;TZID=Europe/Moscow:20230901T124500
DTEND;TZID=Europe/Moscow:20230901T151500
DESCRIPTION:Gromushkina E.V.\, Blinov N.N.\, Belyaev V.N.\, Kurashvili 
 Y.B.\, Zaharkiv A.Y. B21-311
LOCATION:dep.35
SUMMARY:
RRULE:FREQ=WEEKLY;UNTIL=20231215T151500;WKST=MO
END:VEVENT
BEGIN:VEVENT
DTSTAMP:20260420T174549Z
UID:311d2cf6-4de2-46a3-ab0c-c547ca409a84
DTSTART;TZID=Europe/Moscow:20230905T133500
DTEND;TZID=Europe/Moscow:20230905T151500
DESCRIPTION:Belyaev V.N. M22-381
SUMMARY:Modern Problems in Physics
RRULE:FREQ=WEEKLY;UNTIL=20231212T151500;INTERVAL=2;WKST=MO
END:VEVENT
BEGIN:VEVENT
DTSTAMP:20260420T174549Z
UID:3a530132-6777-4943-93ca-e0a9d6a03aad
DTSTART;TZID=Europe/Moscow:20230912T133500
DTEND;TZID=Europe/Moscow:20230912T151500
DESCRIPTION:Belyaev V.N. M22-381
SUMMARY:Modern Problems in Physics
RRULE:FREQ=WEEKLY;UNTIL=20231219T151500;INTERVAL=2;WKST=MO
END:VEVENT
BEGIN:VEVENT
DTSTAMP:20260420T174549Z
UID:cf92c598-7d95-4002-a932-10df6c287b32
DTSTART;TZID=Europe/Moscow:20230906T143000
DTEND;TZID=Europe/Moscow:20230906T170000
DESCRIPTION:Gromushkina E.V.\, Zaharkiv A.Y.\, Belyaev V.N. M22-301\, M2
 2-311
LOCATION:dep.35
SUMMARY:Industry Workshop:  Pedagogy
RRULE:FREQ=WEEKLY;UNTIL=20231122T170000;WKST=MO
END:VEVENT
BEGIN:VEVENT
DTSTAMP:20260420T174549Z
UID:e209b08c-eb91-45bc-833f-6aed141e3a3e
DTSTART;TZID=Europe/Moscow:20230907T143000
DTEND;TZID=Europe/Moscow:20230907T160500
DESCRIPTION:Lebedenko I.M.\, Zaharkiv A.Y.\, Gromushkina E.V.\, Blinov 
 N.N.\, Belyaev V.N.\, Kurashvili Y.B. B20-301
LOCATION:dep.35
SUMMARY:
RRULE:FREQ=WEEKLY;UNTIL=20231221T160500;WKST=MO
END:VEVENT
BEGIN:VEVENT
DTSTAMP:20260420T174549Z
UID:5c57d7e3-2430-49c8-af69-419ac90cbea4
DTSTART;TZID=Europe/Moscow:20230901T152000
DTEND;TZID=Europe/Moscow:20230901T170000
DESCRIPTION:Gromushkina E.V.\, Belyaev V.N.\, Blinov N.N.\, Lebedenko I
 .M.\, Kurashvili Y.B.\, Zaharkiv A.Y. M23-301\, M23-311
LOCATION:dep.35
SUMMARY:Academic (Research) Practice:
RRULE:FREQ=WEEKLY;UNTIL=20231215T170000;WKST=MO
END:VEVENT
BEGIN:VEVENT
DTSTAMP:20260420T174550Z
UID:a5c324bf-1c6d-4c8c-9f2f-0c1f1ae3f80c
DTSTART;TZID=Europe/Moscow:20230906T161500
DTEND;TZID=Europe/Moscow:20230906T175000
DESCRIPTION:Belyaev V.N. M23-301\, M23-311
LOCATION:64-407
SUMMARY:History and Methodology of Physics
RRULE:FREQ=WEEKLY;UNTIL=20231220T175000;WKST=MO
END:VEVENT
BEGIN:VEVENT
DTSTAMP:20260420T174550Z
UID:18c27dd9-ea67-49eb-ac69-be6be6c3c1ec
DTSTART;TZID=Europe/Moscow:20230907T161500
DTEND;TZID=Europe/Moscow:20230907T175000
DESCRIPTION:Belyaev V.N. M22-301\, M22-311
LOCATION:64-408
SUMMARY:Physics of a Human Body
RRULE:FREQ=WEEKLY;UNTIL=20231214T175000;INTERVAL=2;WKST=MO
END:VEVENT
BEGIN:VEVENT
DTSTAMP:20260420T174550Z
UID:3356ea61-ceb7-4e2d-8a8e-27d537685907
DTSTART;TZID=Europe/Moscow:20230906T175500
DTEND;TZID=Europe/Moscow:20230906T193000
DESCRIPTION:Belyaev V.N. M23-301\, M23-311
LOCATION:64-308
SUMMARY:Physical Chemistry of Positron and Positronium
RRULE:FREQ=WEEKLY;UNTIL=20231220T193000;WKST=MO
END:VEVENT
BEGIN:VEVENT
DTSTAMP:20260420T174550Z
UID:983211fc-79e0-4a4e-9cbf-59b75d6d83c1
DTSTART;TZID=Europe/Moscow:20230907T175500
DTEND;TZID=Europe/Moscow:20230907T193000
DESCRIPTION:Belyaev V.N. M22-301\, M22-311
LOCATION:64-408
SUMMARY:Physics of a Human Body
RRULE:FREQ=WEEKLY;UNTIL=20231214T193000;INTERVAL=2;WKST=MO
END:VEVENT
BEGIN:VEVENT
DTSTAMP:20260420T174550Z
UID:f8ca8ea6-52ff-4295-b3a8-0c8557bee94f
DTSTART;TZID=Europe/Moscow:20230906T193500
DTEND;TZID=Europe/Moscow:20230906T211000
DESCRIPTION:Belyaev V.N. M23-301\, M23-311
LOCATION:64-308
SUMMARY:Modern Problems in Physics
RRULE:FREQ=WEEKLY;UNTIL=20231213T211000;INTERVAL=2;WKST=MO
END:VEVENT
BEGIN:VEVENT
DTSTAMP:20260420T174550Z
UID:779ce98c-bab1-49af-82f8-3aadeed84e9f
DTSTART;TZID=Europe/Moscow:20230913T193500
DTEND;TZID=Europe/Moscow:20230913T211000
DESCRIPTION:Belyaev V.N. M23-301\, M23-311
LOCATION:64-308
SUMMARY:Modern Problems in Physics
RRULE:FREQ=WEEKLY;UNTIL=20231220T211000;INTERVAL=2;WKST=MO
END:VEVENT
BEGIN:VEVENT
DTSTAMP:20260420T174550Z
UID:a8870851-fe08-428b-bdd0-da01c2e9b17d
DTSTART;TZID=Europe/Moscow:20230922T175500
DTEND;TZID=Europe/Moscow:20230922T193000
DESCRIPTION:Belyaev V.N.\, Zaharkiv A.Y. A21-313
LOCATION:64-407
SUMMARY:Medical Physics
RRULE:FREQ=WEEKLY;UNTIL=20231215T193000;INTERVAL=2;WKST=MO
END:VEVENT
BEGIN:VEVENT
DTSTAMP:20260420T174550Z
UID:3ab0bcf5-4057-43bd-b60f-f6fbeb392980
DTSTART;TZID=Europe/Moscow:20230922T193500
DTEND;TZID=Europe/Moscow:20230922T211000
DESCRIPTION:Belyaev V.N.\, Zaharkiv A.Y. A21-313
LOCATION:64-407
SUMMARY:Medical Physics
RRULE:FREQ=WEEKLY;UNTIL=20231215T211000;INTERVAL=2;WKST=MO
END:VEVENT
BEGIN:VEVENT
DTSTAMP:20260420T174550Z
UID:217c19fd-dcc1-4634-928f-262962e2d802
DTSTART;TZID=Europe/Moscow:20231007T101500
DTEND;TZID=Europe/Moscow:20231007T124000
DESCRIPTION:Belyaev V.N. B20-301
LOCATION:64-407
SUMMARY:Principles of Continuum Mechanics and Physical Kinetics
RRULE:FREQ=WEEKLY;UNTIL=20231216T124000;WKST=MO
EXDATE:20231104T101500
END:VEVENT
END:VCALENDAR
