BEGIN:VCALENDAR
VERSION:2.0
PRODID:icalendar-ruby
CALSCALE:GREGORIAN
METHOD:PUBLISH
BEGIN:VTIMEZONE
TZID:Europe/Moscow
BEGIN:STANDARD
DTSTART:19700101T000000
TZOFFSETFROM:+0300
TZOFFSETTO:+0300
TZNAME:MSK
END:STANDARD
END:VTIMEZONE
BEGIN:VEVENT
DTSTAMP:20260420T025324Z
UID:4b158158-bcb8-47d0-8907-e2b3a524276c
DTSTART;TZID=Europe/Moscow:20230907T101500
DTEND;TZID=Europe/Moscow:20230907T115000
DESCRIPTION:Gerasimov I.A.\, Stepanenko A.A. B20-202
LOCATION:NLK-354
SUMMARY:Physics of Laser Plasma
RRULE:FREQ=WEEKLY;UNTIL=20231221T115000;WKST=MO
END:VEVENT
BEGIN:VEVENT
DTSTAMP:20260420T025324Z
UID:a9dd828c-38a9-436d-88cd-51f82da86b06
DTSTART;TZID=Europe/Moscow:20230901T115500
DTEND;TZID=Europe/Moscow:20230901T133000
DESCRIPTION:Gerasimov I.A.\, Stepanenko A.A.\, Vovchenko E.D. B20-202
LOCATION:NLK-354
SUMMARY:Physics of Laser Plasma
RRULE:FREQ=WEEKLY;UNTIL=20231208T133000;INTERVAL=2;WKST=MO
END:VEVENT
BEGIN:VEVENT
DTSTAMP:20260420T025324Z
UID:6932c000-46bf-46f5-aa47-64c4c2721593
DTSTART;TZID=Europe/Moscow:20230905T161500
DTEND;TZID=Europe/Moscow:20230905T175000
DESCRIPTION:Stepanenko A.A. M23-208
LOCATION:33-103
SUMMARY:Plasma physics: Selected chapters
RRULE:FREQ=WEEKLY;UNTIL=20231121T175000;WKST=MO
END:VEVENT
BEGIN:VEVENT
DTSTAMP:20260420T025324Z
UID:f29f9711-9c17-40c8-9580-1f8d7f4b5c88
DTSTART;TZID=Europe/Moscow:20230901T175500
DTEND;TZID=Europe/Moscow:20230901T202000
DESCRIPTION:Stepanenko A.A. M23-208\, M23-218
LOCATION:V-119
SUMMARY:Computer methods of modeling and data processing
RRULE:FREQ=WEEKLY;UNTIL=20230929T202000;WKST=MO
END:VEVENT
BEGIN:VEVENT
DTSTAMP:20260420T025324Z
UID:e3292cc5-632d-4d21-8abb-02297dbabab5
DTSTART;TZID=Europe/Moscow:20230905T175500
DTEND;TZID=Europe/Moscow:20230905T193000
DESCRIPTION:Stepanenko A.A. M23-208
LOCATION:33-103
SUMMARY:Plasma physics: Selected chapters
RRULE:FREQ=WEEKLY;UNTIL=20231219T193000;WKST=MO
END:VEVENT
BEGIN:VEVENT
DTSTAMP:20260420T025324Z
UID:9240bedf-6629-43ec-afbc-c7df4595873f
DTSTART;TZID=Europe/Moscow:20231006T175500
DTEND;TZID=Europe/Moscow:20231006T202000
DESCRIPTION:Stepanenko A.A. M23-208\, M23-218
LOCATION:V-119
SUMMARY:Computer methods of modeling and data processing
RRULE:FREQ=WEEKLY;UNTIL=20231215T202000;WKST=MO
END:VEVENT
BEGIN:VEVENT
DTSTAMP:20260420T025324Z
UID:7db3fd72-8852-4cb7-802e-866c5e317094
DTSTART;TZID=Europe/Moscow:20231128T161500
DTEND;TZID=Europe/Moscow:20231128T175000
DESCRIPTION:Stepanenko A.A. M23-208
LOCATION:33-103
SUMMARY:Plasma physics: Selected chapters
RRULE:FREQ=WEEKLY;UNTIL=20231219T175000;WKST=MO
END:VEVENT
END:VCALENDAR
