BEGIN:VCALENDAR
VERSION:2.0
PRODID:icalendar-ruby
CALSCALE:GREGORIAN
METHOD:PUBLISH
BEGIN:VTIMEZONE
TZID:Europe/Moscow
BEGIN:STANDARD
DTSTART:19700101T000000
TZOFFSETFROM:+0300
TZOFFSETTO:+0300
TZNAME:MSK
END:STANDARD
END:VTIMEZONE
BEGIN:VEVENT
DTSTAMP:20260419T141517Z
UID:e451f827-0464-434e-af3c-5fbf35a5a262
DTSTART;TZID=Europe/Moscow:20231007T115500
DTEND;TZID=Europe/Moscow:20231007T170000
DESCRIPTION:Hrestin A.V.\, Gorkunov S.V. M23-204\, M23-205
LOCATION:NLK-373
SUMMARY:Mathematical Modeling with the Use of Software Packages
RRULE:FREQ=WEEKLY;UNTIL=20231216T170000;INTERVAL=2;WKST=MO
EXDATE:20231104T115500
END:VEVENT
END:VCALENDAR
