BEGIN:VCALENDAR
VERSION:2.0
PRODID:icalendar-ruby
CALSCALE:GREGORIAN
METHOD:PUBLISH
BEGIN:VTIMEZONE
TZID:Europe/Moscow
BEGIN:STANDARD
DTSTART:19700101T000000
TZOFFSETFROM:+0300
TZOFFSETTO:+0300
TZNAME:MSK
END:STANDARD
END:VTIMEZONE
BEGIN:VEVENT
DTSTAMP:20260419T120502Z
UID:1c38334e-5daa-41fb-9401-ba8c0449e364
DTSTART;TZID=Europe/Moscow:20230901T083000
DTEND;TZID=Europe/Moscow:20230901T100500
DESCRIPTION:Kirsanov M.A.\, Naumov P.Y. M23-111
LOCATION:dep.11
SUMMARY:Academic Practice (Introduction)
RRULE:FREQ=WEEKLY;UNTIL=20231006T100500;WKST=MO
END:VEVENT
BEGIN:VEVENT
DTSTAMP:20260419T120502Z
UID:34ba0cec-a14e-467f-81b5-b03f8073f5ed
DTSTART;TZID=Europe/Moscow:20230901T115500
DTEND;TZID=Europe/Moscow:20230901T133000
DESCRIPTION:Kirsanov M.A. B20-104
LOCATION:E-318
SUMMARY:Interaction of radiation and matter
RRULE:FREQ=WEEKLY;UNTIL=20231208T133000;INTERVAL=2;WKST=MO
END:VEVENT
BEGIN:VEVENT
DTSTAMP:20260419T120502Z
UID:857deb29-c5b7-4f7f-8209-b79d5024ee4a
DTSTART;TZID=Europe/Moscow:20230907T115500
DTEND;TZID=Europe/Moscow:20230907T133000
DESCRIPTION:Kirsanov M.A. B20-102\, B20-104\, B20-105
LOCATION:K-415
SUMMARY:Experimental Methods of Nuclear Physics
RRULE:FREQ=WEEKLY;UNTIL=20231214T133000;INTERVAL=2;WKST=MO
END:VEVENT
BEGIN:VEVENT
DTSTAMP:20260419T120502Z
UID:7f9388b1-e96b-4bf6-874f-bf02363a7428
DTSTART;TZID=Europe/Moscow:20230908T115500
DTEND;TZID=Europe/Moscow:20230908T133000
DESCRIPTION:Kirsanov M.A. B20-104
LOCATION:E-318
SUMMARY:Interaction of radiation and matter
RRULE:FREQ=WEEKLY;UNTIL=20231215T133000;INTERVAL=2;WKST=MO
END:VEVENT
BEGIN:VEVENT
DTSTAMP:20260419T120502Z
UID:b9a6c459-c91d-4ce6-99e4-ff5eabf3d376
DTSTART;TZID=Europe/Moscow:20230907T143000
DTEND;TZID=Europe/Moscow:20230907T160500
DESCRIPTION:Kirsanov M.A. B20-102\, B20-104\, B20-105
LOCATION:V-403
SUMMARY:Experimental Methods of Nuclear Physics
RRULE:FREQ=WEEKLY;UNTIL=20231221T160500;WKST=MO
END:VEVENT
BEGIN:VEVENT
DTSTAMP:20260419T120502Z
UID:c33b3958-40cb-4985-94e1-5419cf096ffa
DTSTART;TZID=Europe/Moscow:20230901T161500
DTEND;TZID=Europe/Moscow:20230901T175000
DESCRIPTION:Loginov V.A.\, Kirsanov M.A. B20-301
LOCATION:B-221
SUMMARY:Experimental Methods of Nuclear Physics
RRULE:FREQ=WEEKLY;UNTIL=20231215T175000;WKST=MO
END:VEVENT
BEGIN:VEVENT
DTSTAMP:20260419T120502Z
UID:3f6938fe-701c-4ee4-b225-2bda1016dcd3
DTSTART;TZID=Europe/Moscow:20230907T161500
DTEND;TZID=Europe/Moscow:20230907T175000
DESCRIPTION:Kirsanov M.A.\, Naumov P.Y. B21-104
LOCATION:dep.11
SUMMARY:Industry Workshop: research\, methods of nuclear physics
RRULE:FREQ=WEEKLY;UNTIL=20231214T175000;INTERVAL=2;WKST=MO
END:VEVENT
BEGIN:VEVENT
DTSTAMP:20260419T120502Z
UID:145885c2-5a3c-40c9-b1d6-f8d7eb85baa5
DTSTART;TZID=Europe/Moscow:20231013T101500
DTEND;TZID=Europe/Moscow:20231013T115000
DESCRIPTION:Naumov P.Y.\, Kirsanov M.A. M23-111
LOCATION:dep.11
SUMMARY:Academic Practice (Introduction)
RRULE:FREQ=WEEKLY;UNTIL=20231215T115000;WKST=MO
END:VEVENT
END:VCALENDAR
